BEGIN:VCALENDAR
VERSION:2.0
PRODID:-//Alfred Box of Books Library - ECPv6.15.20//NONSGML v1.0//EN
CALSCALE:GREGORIAN
METHOD:PUBLISH
X-WR-CALNAME:Alfred Box of Books Library
X-ORIGINAL-URL:https://alfredboxofbookslibrary.org
X-WR-CALDESC:Events for Alfred Box of Books Library
REFRESH-INTERVAL;VALUE=DURATION:PT1H
X-Robots-Tag:noindex
X-PUBLISHED-TTL:PT1H
BEGIN:VTIMEZONE
TZID:UTC
BEGIN:STANDARD
TZOFFSETFROM:+0000
TZOFFSETTO:+0000
TZNAME:UTC
DTSTART:20220101T000000
END:STANDARD
END:VTIMEZONE
BEGIN:VEVENT
DTSTART;TZID=UTC:20230626T160000
DTEND;TZID=UTC:20230626T190000
DTSTAMP:20260419T130645
CREATED:20230524T151519Z
LAST-MODIFIED:20230524T151519Z
UID:2777-1687795200-1687806000@alfredboxofbookslibrary.org
SUMMARY:Summer Reading Kick Off
DESCRIPTION:Children\, teens and adults can register for summer reading! Set a goal and earn prizes! \nRegistration will begin at 4:00pm. \nLive music will be provided by Anton Flint from 5:00-7:00pm. \nIn the event of rain the event will move to the Union University Church Center. \n 
URL:https://alfredboxofbookslibrary.org/event/summer-reading-kick-off/
LOCATION:Alfred Box of Books Library\, 1 West University Street\, Alfred\, NY\, 14802-1113\, United States
END:VEVENT
BEGIN:VEVENT
DTSTART;TZID=UTC:20230626T170000
DTEND;TZID=UTC:20230626T190000
DTSTAMP:20260419T130645
CREATED:20230524T153110Z
LAST-MODIFIED:20230524T155615Z
UID:2779-1687798800-1687806000@alfredboxofbookslibrary.org
SUMMARY:Monday Music: Anton Flint
DESCRIPTION:Anton Flint will perform on the library lawn! In the event of rain\, this program will be held at the Union University Church Center. \nThis program is FREE and open to the public.  Terra Cotta will have a stand on site to purchase dinner.  Or bring your own! \nWe are collecting donations for the Alfred Food Pantry.  If you would like to bring a non-perishable food item\, feminine hygiene products\, or paper product (toilet paper/paper towels) these donations will be collected at our Monday Evening Music throughout the summer. \nThis project is made possible with funds front the Statewide Community regrants program\, a regrant program of the New York State Council on the Arts with the support of the Office of the Governor and the New York State Legislature and administered by the Arts Council for Wyoming County.
URL:https://alfredboxofbookslibrary.org/event/monday-evening-music/
LOCATION:Alfred Box of Books Library\, 1 West University Street\, Alfred\, NY\, 14802-1113\, United States
ORGANIZER;CN="Alfred Box of Books Library":MAILTO:alfred@stls.org
END:VEVENT
END:VCALENDAR