BEGIN:VCALENDAR
VERSION:2.0
PRODID:-//Alfred Box of Books Library - ECPv6.15.20//NONSGML v1.0//EN
CALSCALE:GREGORIAN
METHOD:PUBLISH
X-WR-CALNAME:Alfred Box of Books Library
X-ORIGINAL-URL:https://alfredboxofbookslibrary.org
X-WR-CALDESC:Events for Alfred Box of Books Library
REFRESH-INTERVAL;VALUE=DURATION:PT1H
X-Robots-Tag:noindex
X-PUBLISHED-TTL:PT1H
BEGIN:VTIMEZONE
TZID:UTC
BEGIN:STANDARD
TZOFFSETFROM:+0000
TZOFFSETTO:+0000
TZNAME:UTC
DTSTART:20220101T000000
END:STANDARD
END:VTIMEZONE
BEGIN:VEVENT
DTSTART;TZID=UTC:20230628T110000
DTEND;TZID=UTC:20230628T120000
DTSTAMP:20260419T115555
CREATED:20230617T163648Z
LAST-MODIFIED:20230617T163648Z
UID:2837-1687950000-1687953600@alfredboxofbookslibrary.org
SUMMARY:Preschool Program: Kindness Crowns
DESCRIPTION:Children will hear a story and make a craft related to the book. This program is designed for children under 5. \n 
URL:https://alfredboxofbookslibrary.org/event/preschool-program-kindness-crowns/
LOCATION:Alfred Box of Books Library\, 1 West University Street\, Alfred\, NY\, 14802-1113\, United States
ORGANIZER;CN="Alfred Box of Books Library":MAILTO:alfred@stls.org
END:VEVENT
BEGIN:VEVENT
DTSTART;TZID=UTC:20230628T140000
DTEND;TZID=UTC:20230628T150000
DTSTAMP:20260419T115555
CREATED:20230617T163914Z
LAST-MODIFIED:20230617T163914Z
UID:2839-1687960800-1687964400@alfredboxofbookslibrary.org
SUMMARY:Metal Foil Self-Portrait
DESCRIPTION:Artist Lilly Thiell Milliman will teach participants how to make a metal foil self portrait. \nAll materials provided. \nProgram designed for children 5+
URL:https://alfredboxofbookslibrary.org/event/metal-foil-self-portrait/
LOCATION:Alfred Box of Books Library\, 1 West University Street\, Alfred\, NY\, 14802-1113\, United States
ORGANIZER;CN="Alfred Box of Books Library":MAILTO:alfred@stls.org
END:VEVENT
END:VCALENDAR