BEGIN:VCALENDAR
VERSION:2.0
PRODID:-//Alfred Box of Books Library - ECPv6.15.20//NONSGML v1.0//EN
CALSCALE:GREGORIAN
METHOD:PUBLISH
X-ORIGINAL-URL:https://alfredboxofbookslibrary.org
X-WR-CALDESC:Events for Alfred Box of Books Library
REFRESH-INTERVAL;VALUE=DURATION:PT1H
X-Robots-Tag:noindex
X-PUBLISHED-TTL:PT1H
BEGIN:VTIMEZONE
TZID:UTC
BEGIN:STANDARD
TZOFFSETFROM:+0000
TZOFFSETTO:+0000
TZNAME:UTC
DTSTART:20220101T000000
END:STANDARD
END:VTIMEZONE
BEGIN:VEVENT
DTSTART;TZID=UTC:20230630T113000
DTEND;TZID=UTC:20230630T113000
DTSTAMP:20260419T115551
CREATED:20230307T203922Z
LAST-MODIFIED:20230308T150615Z
UID:2627-1688124600-1688124600@alfredboxofbookslibrary.org
SUMMARY:Grow Your Own II
DESCRIPTION:Join us as Master Gardener Mary Lu Wells shares gardening tips and tricks! \nJoin us in person at the library\, via Zoom\, or watch later on our YouTube Channel! \nJoin Zoom Meeting\nhttps://us02web.zoom.us/j/83358499885?pwd=N1U3R0NWRTJld3pVUFdSQ1RoUzJXUT09 \nMeeting ID: 833 5849 9885\nPasscode: 572037
URL:https://alfredboxofbookslibrary.org/event/grow-your-own-ii-9/
LOCATION:NY
END:VEVENT
BEGIN:VEVENT
DTSTART;TZID=UTC:20230630T150000
DTEND;TZID=UTC:20230630T170000
DTSTAMP:20260419T115551
CREATED:20230621T162438Z
LAST-MODIFIED:20230621T162438Z
UID:2869-1688137200-1688144400@alfredboxofbookslibrary.org
SUMMARY:DIY Flower Pin
DESCRIPTION:Create a flower pin using simple rug hooking techniques. This project is great for beginners. \nBest for ages 12+
URL:https://alfredboxofbookslibrary.org/event/diy-flower-pin/
LOCATION:Alfred Box of Books Library\, 1 West University Street\, Alfred\, NY\, 14802-1113\, United States
ORGANIZER;CN="Alfred Box of Books Library":MAILTO:alfred@stls.org
END:VEVENT
END:VCALENDAR