BEGIN:VCALENDAR
VERSION:2.0
PRODID:-//Alfred Box of Books Library - ECPv6.15.20//NONSGML v1.0//EN
CALSCALE:GREGORIAN
METHOD:PUBLISH
X-ORIGINAL-URL:https://alfredboxofbookslibrary.org
X-WR-CALDESC:Events for Alfred Box of Books Library
REFRESH-INTERVAL;VALUE=DURATION:PT1H
X-Robots-Tag:noindex
X-PUBLISHED-TTL:PT1H
BEGIN:VTIMEZONE
TZID:UTC
BEGIN:STANDARD
TZOFFSETFROM:+0000
TZOFFSETTO:+0000
TZNAME:UTC
DTSTART:20220101T000000
END:STANDARD
END:VTIMEZONE
BEGIN:VEVENT
DTSTART;TZID=UTC:20230714T170000
DTEND;TZID=UTC:20230714T183000
DTSTAMP:20260419T145321
CREATED:20230621T162735Z
LAST-MODIFIED:20230621T162735Z
UID:2871-1689354000-1689359400@alfredboxofbookslibrary.org
SUMMARY:The Great and Powerful Dave
DESCRIPTION:Celebrate the magic of reading with the Great and Powerful Dave and his magic show! \nThis event will take place at the Union University Church Center.
URL:https://alfredboxofbookslibrary.org/event/the-great-and-powerful-dave/
LOCATION:Union University Church Center\, 29 N. Main Street\, Alfred\, NY\, 14802\, United States
ORGANIZER;CN="Alfred Box of Books Library":MAILTO:alfred@stls.org
END:VEVENT
END:VCALENDAR