BEGIN:VCALENDAR
VERSION:2.0
PRODID:-//Alfred Box of Books Library - ECPv6.15.20//NONSGML v1.0//EN
CALSCALE:GREGORIAN
METHOD:PUBLISH
X-ORIGINAL-URL:https://alfredboxofbookslibrary.org
X-WR-CALDESC:Events for Alfred Box of Books Library
REFRESH-INTERVAL;VALUE=DURATION:PT1H
X-Robots-Tag:noindex
X-PUBLISHED-TTL:PT1H
BEGIN:VTIMEZONE
TZID:UTC
BEGIN:STANDARD
TZOFFSETFROM:+0000
TZOFFSETTO:+0000
TZNAME:UTC
DTSTART:20220101T000000
END:STANDARD
END:VTIMEZONE
BEGIN:VEVENT
DTSTART;TZID=UTC:20230731T113000
DTEND;TZID=UTC:20230731T113000
DTSTAMP:20260419T145324
CREATED:20230713T160423Z
LAST-MODIFIED:20230713T160423Z
UID:2907-1690803000-1690803000@alfredboxofbookslibrary.org
SUMMARY:Grow Your Own II
DESCRIPTION:Master Gardener Mary Lu Wells shares gardening tips\, tricks and more! Learn how to make the most of your garden with these workshops.  There are multiple ways to participate: In-person at the library\, via Zoom\, or watch later on YouTube!
URL:https://alfredboxofbookslibrary.org/event/grow-your-own-ii-19/
LOCATION:NY
END:VEVENT
BEGIN:VEVENT
DTSTART;TZID=UTC:20230731T170000
DTEND;TZID=UTC:20230731T190000
DTSTAMP:20260419T145324
CREATED:20230524T154619Z
LAST-MODIFIED:20230524T160326Z
UID:2795-1690822800-1690830000@alfredboxofbookslibrary.org
SUMMARY:Monday Music: Patrick Jaouen Band
DESCRIPTION:The Patrick Jaouen Band will perform on the library lawn! In the event of rain\, this program will be held at the Union University Church Center. \nThis program is FREE and open to the public. Terra Cotta will have a stand on site to purchase dinner. Or bring your own! \nWe are collecting donations for the Alfred Food Pantry.  If you would like to bring a non-perishable food item\, feminine hygiene products\, or paper product (toilet paper/paper towels) these donations will be collected at our Monday Evening Music throughout the summer. \nThis project is made possible with funds front the Statewide Community regrants program\, a regrant program of the New York State Council on the Arts with the support of the Office of the Governor and the New York State Legislature and administered by the Arts Council for Wyoming County.
URL:https://alfredboxofbookslibrary.org/event/monday-music-patrick-jaouen-band/
LOCATION:Alfred Box of Books Library\, 1 West University Street\, Alfred\, NY\, 14802-1113\, United States
ORGANIZER;CN="Alfred Box of Books Library":MAILTO:alfred@stls.org
END:VEVENT
END:VCALENDAR