BEGIN:VCALENDAR
VERSION:2.0
PRODID:-//Alfred Box of Books Library - ECPv6.15.20//NONSGML v1.0//EN
CALSCALE:GREGORIAN
METHOD:PUBLISH
X-WR-CALNAME:Alfred Box of Books Library
X-ORIGINAL-URL:https://alfredboxofbookslibrary.org
X-WR-CALDESC:Events for Alfred Box of Books Library
REFRESH-INTERVAL;VALUE=DURATION:PT1H
X-Robots-Tag:noindex
X-PUBLISHED-TTL:PT1H
BEGIN:VTIMEZONE
TZID:UTC
BEGIN:STANDARD
TZOFFSETFROM:+0000
TZOFFSETTO:+0000
TZNAME:UTC
DTSTART:20220101T000000
END:STANDARD
END:VTIMEZONE
BEGIN:VEVENT
DTSTART;TZID=UTC:20230802T140000
DTEND;TZID=UTC:20230802T150000
DTSTAMP:20260419T145314
CREATED:20230617T165958Z
LAST-MODIFIED:20230617T165958Z
UID:2857-1690984800-1690988400@alfredboxofbookslibrary.org
SUMMARY:Pyrography Ornaments
DESCRIPTION:Pyrography is a method of decorating wood using heat. Participants will learn this technique and make their own wooden ornament with their design. \nBest for children over age 5 and their caregivers.
URL:https://alfredboxofbookslibrary.org/event/pyrography-ornaments/
LOCATION:Alfred Box of Books Library\, 1 West University Street\, Alfred\, NY\, 14802-1113\, United States
ORGANIZER;CN="Alfred Box of Books Library":MAILTO:alfred@stls.org
END:VEVENT
BEGIN:VEVENT
DTSTART;TZID=UTC:20230802T170000
DTEND;TZID=UTC:20230802T180000
DTSTAMP:20260419T145314
CREATED:20230621T165556Z
LAST-MODIFIED:20230621T165556Z
UID:2885-1690995600-1690999200@alfredboxofbookslibrary.org
SUMMARY:Story and Space with Virtual Reality
DESCRIPTION:Teens are invited to learn how to create a virtual space in virtual reality. \nDr. Steve Guynup will guide participants through 6 online sessions. \nVR headsets are not required.  Internet connection is required- if this is a barrier\, please let us know! \nRegistration is required. Please call or email the library to sign up.
URL:https://alfredboxofbookslibrary.org/event/story-and-space-with-virtual-reality-5/
LOCATION:Alfred Box of Books Library\, 1 West University Street\, Alfred\, NY\, 14802-1113\, United States
ORGANIZER;CN="Alfred Box of Books Library":MAILTO:alfred@stls.org
END:VEVENT
END:VCALENDAR