BEGIN:VCALENDAR
VERSION:2.0
PRODID:-//Alfred Box of Books Library - ECPv6.15.20//NONSGML v1.0//EN
CALSCALE:GREGORIAN
METHOD:PUBLISH
X-ORIGINAL-URL:https://alfredboxofbookslibrary.org
X-WR-CALDESC:Events for Alfred Box of Books Library
REFRESH-INTERVAL;VALUE=DURATION:PT1H
X-Robots-Tag:noindex
X-PUBLISHED-TTL:PT1H
BEGIN:VTIMEZONE
TZID:UTC
BEGIN:STANDARD
TZOFFSETFROM:+0000
TZOFFSETTO:+0000
TZNAME:UTC
DTSTART:20220101T000000
END:STANDARD
END:VTIMEZONE
BEGIN:VEVENT
DTSTART;TZID=UTC:20230809T110000
DTEND;TZID=UTC:20230809T120000
DTSTAMP:20260419T182916
CREATED:20230617T170131Z
LAST-MODIFIED:20230617T170131Z
UID:2859-1691578800-1691582400@alfredboxofbookslibrary.org
SUMMARY:Friendship Bracelets
DESCRIPTION:Make simple friendship bracelets for kids over age 3.
URL:https://alfredboxofbookslibrary.org/event/friendship-bracelets/
LOCATION:Alfred Box of Books Library\, 1 West University Street\, Alfred\, NY\, 14802-1113\, United States
ORGANIZER;CN="Alfred Box of Books Library":MAILTO:alfred@stls.org
END:VEVENT
BEGIN:VEVENT
DTSTART;TZID=UTC:20230809T140000
DTEND;TZID=UTC:20230809T150000
DTSTAMP:20260419T182916
CREATED:20230617T170309Z
LAST-MODIFIED:20230617T170309Z
UID:2861-1691589600-1691593200@alfredboxofbookslibrary.org
SUMMARY:Pop Up Friendship Cards
DESCRIPTION:Artist Lilly Thiell Milliman will teach participants how to make pop-up cards! \nBest for children over age 5.
URL:https://alfredboxofbookslibrary.org/event/pop-up-friendship-cards/
LOCATION:Alfred Box of Books Library\, 1 West University Street\, Alfred\, NY\, 14802-1113\, United States
ORGANIZER;CN="Alfred Box of Books Library":MAILTO:alfred@stls.org
END:VEVENT
BEGIN:VEVENT
DTSTART;TZID=UTC:20230809T170000
DTEND;TZID=UTC:20230809T180000
DTSTAMP:20260419T182916
CREATED:20230621T165633Z
LAST-MODIFIED:20230621T165633Z
UID:2887-1691600400-1691604000@alfredboxofbookslibrary.org
SUMMARY:Story and Space with Virtual Reality
DESCRIPTION:Teens are invited to learn how to create a virtual space in virtual reality. \nDr. Steve Guynup will guide participants through 6 online sessions. \nVR headsets are not required.  Internet connection is required- if this is a barrier\, please let us know! \nRegistration is required. Please call or email the library to sign up.
URL:https://alfredboxofbookslibrary.org/event/story-and-space-with-virtual-reality-6/
LOCATION:Alfred Box of Books Library\, 1 West University Street\, Alfred\, NY\, 14802-1113\, United States
ORGANIZER;CN="Alfred Box of Books Library":MAILTO:alfred@stls.org
END:VEVENT
END:VCALENDAR