BEGIN:VCALENDAR
VERSION:2.0
PRODID:-//Alfred Box of Books Library - ECPv6.15.20//NONSGML v1.0//EN
CALSCALE:GREGORIAN
METHOD:PUBLISH
X-ORIGINAL-URL:https://alfredboxofbookslibrary.org
X-WR-CALDESC:Events for Alfred Box of Books Library
REFRESH-INTERVAL;VALUE=DURATION:PT1H
X-Robots-Tag:noindex
X-PUBLISHED-TTL:PT1H
BEGIN:VTIMEZONE
TZID:UTC
BEGIN:STANDARD
TZOFFSETFROM:+0000
TZOFFSETTO:+0000
TZNAME:UTC
DTSTART:20220101T000000
END:STANDARD
END:VTIMEZONE
BEGIN:VEVENT
DTSTART;TZID=UTC:20230815T160000
DTEND;TZID=UTC:20230815T170000
DTSTAMP:20260419T182917
CREATED:20230807T152354Z
LAST-MODIFIED:20230807T152354Z
UID:3012-1692115200-1692118800@alfredboxofbookslibrary.org
SUMMARY:Board of Trustees Meeting
DESCRIPTION:The Board of Trustees will meet today at 4pm. \nBoard meetings take place at the Parish House (same building as Op-Shop).
URL:https://alfredboxofbookslibrary.org/event/board-of-trustees-meeting-10/
LOCATION:Parish House\, West University Street\, Alfred\, NY\, 14802\, United States
ORGANIZER;CN="Alfred Box of Books Library":MAILTO:alfred@stls.org
END:VEVENT
END:VCALENDAR