BEGIN:VCALENDAR
VERSION:2.0
PRODID:-//Alfred Box of Books Library - ECPv6.15.20//NONSGML v1.0//EN
CALSCALE:GREGORIAN
METHOD:PUBLISH
X-WR-CALNAME:Alfred Box of Books Library
X-ORIGINAL-URL:https://alfredboxofbookslibrary.org
X-WR-CALDESC:Events for Alfred Box of Books Library
REFRESH-INTERVAL;VALUE=DURATION:PT1H
X-Robots-Tag:noindex
X-PUBLISHED-TTL:PT1H
BEGIN:VTIMEZONE
TZID:UTC
BEGIN:STANDARD
TZOFFSETFROM:+0000
TZOFFSETTO:+0000
TZNAME:UTC
DTSTART:20220101T000000
END:STANDARD
END:VTIMEZONE
BEGIN:VEVENT
DTSTART;TZID=UTC:20230828T113000
DTEND;TZID=UTC:20230828T113000
DTSTAMP:20260419T164123
CREATED:20230713T160424Z
LAST-MODIFIED:20230713T160424Z
UID:2909-1693222200-1693222200@alfredboxofbookslibrary.org
SUMMARY:Grow Your Own II
DESCRIPTION:Master Gardener Mary Lu Wells shares gardening tips\, tricks and more! Learn how to make the most of your garden with these workshops.  There are multiple ways to participate: In-person at the library\, via Zoom\, or watch later on YouTube!
URL:https://alfredboxofbookslibrary.org/event/grow-your-own-ii-21/
LOCATION:NY
END:VEVENT
END:VCALENDAR