BEGIN:VCALENDAR
VERSION:2.0
PRODID:-//Alfred Box of Books Library - ECPv6.15.20//NONSGML v1.0//EN
CALSCALE:GREGORIAN
METHOD:PUBLISH
X-ORIGINAL-URL:https://alfredboxofbookslibrary.org
X-WR-CALDESC:Events for Alfred Box of Books Library
REFRESH-INTERVAL;VALUE=DURATION:PT1H
X-Robots-Tag:noindex
X-PUBLISHED-TTL:PT1H
BEGIN:VTIMEZONE
TZID:UTC
BEGIN:STANDARD
TZOFFSETFROM:+0000
TZOFFSETTO:+0000
TZNAME:UTC
DTSTART:20220101T000000
END:STANDARD
END:VTIMEZONE
BEGIN:VEVENT
DTSTART;TZID=UTC:20231003T170000
DTEND;TZID=UTC:20231003T180000
DTSTAMP:20260419T200243
CREATED:20230807T152835Z
LAST-MODIFIED:20230807T152835Z
UID:3018-1696352400-1696356000@alfredboxofbookslibrary.org
SUMMARY:True Crime Book Club
DESCRIPTION:True Crime Book Club meets the first Tuesday of every month.  Join us for our latest book discussion at the Terra Cotta Coffee House.
URL:https://alfredboxofbookslibrary.org/event/true-crime-book-club-21/
LOCATION:Terra Cotta Coffee House\, Alfred
ORGANIZER;CN="Alfred Box of Books Library":MAILTO:alfred@stls.org
END:VEVENT
END:VCALENDAR