BEGIN:VCALENDAR
VERSION:2.0
PRODID:-//Alfred Box of Books Library - ECPv6.15.20//NONSGML v1.0//EN
CALSCALE:GREGORIAN
METHOD:PUBLISH
X-ORIGINAL-URL:https://alfredboxofbookslibrary.org
X-WR-CALDESC:Events for Alfred Box of Books Library
REFRESH-INTERVAL;VALUE=DURATION:PT1H
X-Robots-Tag:noindex
X-PUBLISHED-TTL:PT1H
BEGIN:VTIMEZONE
TZID:UTC
BEGIN:STANDARD
TZOFFSETFROM:+0000
TZOFFSETTO:+0000
TZNAME:UTC
DTSTART:20220101T000000
END:STANDARD
END:VTIMEZONE
BEGIN:VEVENT
DTSTART;TZID=UTC:20231004T110000
DTEND;TZID=UTC:20231004T110000
DTSTAMP:20260419T200333
CREATED:20230919T181055Z
LAST-MODIFIED:20230919T181055Z
UID:3071-1696417200-1696417200@alfredboxofbookslibrary.org
SUMMARY:Storytime
DESCRIPTION:Join us for a farm themed storytime with books\, songs and activities! For ages 0-5.
URL:https://alfredboxofbookslibrary.org/event/storytime-41/
LOCATION:NY
END:VEVENT
END:VCALENDAR