BEGIN:VCALENDAR
VERSION:2.0
PRODID:-//Alfred Box of Books Library - ECPv6.15.20//NONSGML v1.0//EN
CALSCALE:GREGORIAN
METHOD:PUBLISH
X-WR-CALNAME:Alfred Box of Books Library
X-ORIGINAL-URL:https://alfredboxofbookslibrary.org
X-WR-CALDESC:Events for Alfred Box of Books Library
REFRESH-INTERVAL;VALUE=DURATION:PT1H
X-Robots-Tag:noindex
X-PUBLISHED-TTL:PT1H
BEGIN:VTIMEZONE
TZID:UTC
BEGIN:STANDARD
TZOFFSETFROM:+0000
TZOFFSETTO:+0000
TZNAME:UTC
DTSTART:20220101T000000
END:STANDARD
END:VTIMEZONE
BEGIN:VEVENT
DTSTART;TZID=UTC:20231012T160000
DTEND;TZID=UTC:20231012T170000
DTSTAMP:20260419T215240
CREATED:20230807T150708Z
LAST-MODIFIED:20230807T150743Z
UID:3002-1697126400-1697130000@alfredboxofbookslibrary.org
SUMMARY:Eclipse 101
DESCRIPTION:Prepare for the upcoming solar eclipse by learning about eclipses. What is an eclipse? How often do they occur? Where can you see the eclipse? Why don’t we see eclipses every month? \nLearn all about eclipses in this hands-on program. \nEclipse glasses will be given to participants! \nRegister by calling or emailing the library: 607-587-9290 or alfred@stls.org.
URL:https://alfredboxofbookslibrary.org/event/eclipse-101/
LOCATION:Alfred Box of Books Library\, 1 West University Street\, Alfred\, NY\, 14802-1113\, United States
ORGANIZER;CN="Alfred Box of Books Library":MAILTO:alfred@stls.org
END:VEVENT
END:VCALENDAR