BEGIN:VCALENDAR
VERSION:2.0
PRODID:-//Alfred Box of Books Library - ECPv6.15.20//NONSGML v1.0//EN
CALSCALE:GREGORIAN
METHOD:PUBLISH
X-WR-CALNAME:Alfred Box of Books Library
X-ORIGINAL-URL:https://alfredboxofbookslibrary.org
X-WR-CALDESC:Events for Alfred Box of Books Library
REFRESH-INTERVAL;VALUE=DURATION:PT1H
X-Robots-Tag:noindex
X-PUBLISHED-TTL:PT1H
BEGIN:VTIMEZONE
TZID:UTC
BEGIN:STANDARD
TZOFFSETFROM:+0000
TZOFFSETTO:+0000
TZNAME:UTC
DTSTART:20220101T000000
END:STANDARD
END:VTIMEZONE
BEGIN:VEVENT
DTSTART;TZID=UTC:20231013T160000
DTEND;TZID=UTC:20231013T170000
DTSTAMP:20260419T215241
CREATED:20230807T150903Z
LAST-MODIFIED:20230807T150947Z
UID:3005-1697212800-1697216400@alfredboxofbookslibrary.org
SUMMARY:Eclipse Art
DESCRIPTION:Celebrate the eclipse with Eclipse Art!! We will learn about eclipse art throughout history\, as well as making our own.  If weather permits\, we will be outside for a portion of the program. \nParticipants will received eclipse glasses! \nRegister by calling or emailing the library: 607-587-9290 or alfred@stls.org.
URL:https://alfredboxofbookslibrary.org/event/eclipse-art/
LOCATION:Alfred Box of Books Library\, 1 West University Street\, Alfred\, NY\, 14802-1113\, United States
ORGANIZER;CN="Alfred Box of Books Library":MAILTO:alfred@stls.org
END:VEVENT
END:VCALENDAR