BEGIN:VCALENDAR
VERSION:2.0
PRODID:-//Alfred Box of Books Library - ECPv6.15.20//NONSGML v1.0//EN
CALSCALE:GREGORIAN
METHOD:PUBLISH
X-ORIGINAL-URL:https://alfredboxofbookslibrary.org
X-WR-CALDESC:Events for Alfred Box of Books Library
REFRESH-INTERVAL;VALUE=DURATION:PT1H
X-Robots-Tag:noindex
X-PUBLISHED-TTL:PT1H
BEGIN:VTIMEZONE
TZID:UTC
BEGIN:STANDARD
TZOFFSETFROM:+0000
TZOFFSETTO:+0000
TZNAME:UTC
DTSTART:20220101T000000
END:STANDARD
END:VTIMEZONE
BEGIN:VEVENT
DTSTART;TZID=UTC:20231022T120000
DTEND;TZID=UTC:20231022T160000
DTSTAMP:20260419T215318
CREATED:20230807T145438Z
LAST-MODIFIED:20230807T145438Z
UID:2994-1697976000-1697990400@alfredboxofbookslibrary.org
SUMMARY:Woven Indian Corn
DESCRIPTION:Join us for a workshop with The Basket Wiz\, Diane Wieziolowski.  Create your own autumn decor in this workshop.  All materials are provided. Registration is required to ensure supplies and space. 607-587-9290 or alfred@stls.org.
URL:https://alfredboxofbookslibrary.org/event/woven-indian-corn/
LOCATION:Alfred Box of Books Library\, 1 West University Street\, Alfred\, NY\, 14802-1113\, United States
ORGANIZER;CN="Alfred Box of Books Library":MAILTO:alfred@stls.org
END:VEVENT
END:VCALENDAR