BEGIN:VCALENDAR
VERSION:2.0
PRODID:-//Alfred Box of Books Library - ECPv6.15.20//NONSGML v1.0//EN
CALSCALE:GREGORIAN
METHOD:PUBLISH
X-ORIGINAL-URL:https://alfredboxofbookslibrary.org
X-WR-CALDESC:Events for Alfred Box of Books Library
REFRESH-INTERVAL;VALUE=DURATION:PT1H
X-Robots-Tag:noindex
X-PUBLISHED-TTL:PT1H
BEGIN:VTIMEZONE
TZID:UTC
BEGIN:STANDARD
TZOFFSETFROM:+0000
TZOFFSETTO:+0000
TZNAME:UTC
DTSTART:20220101T000000
END:STANDARD
END:VTIMEZONE
BEGIN:VEVENT
DTSTART;TZID=UTC:20231115T110000
DTEND;TZID=UTC:20231115T110000
DTSTAMP:20260419T232459
CREATED:20230919T181105Z
LAST-MODIFIED:20230919T181105Z
UID:3077-1700046000-1700046000@alfredboxofbookslibrary.org
SUMMARY:Storytime
DESCRIPTION:Celebrate being thankful this week at storytime with books\, activities\, and more! For kids 0-5 (and their grown up!)
URL:https://alfredboxofbookslibrary.org/event/storytime-47/
LOCATION:NY
END:VEVENT
BEGIN:VEVENT
DTSTART;TZID=UTC:20231115T160000
DTEND;TZID=UTC:20231115T180000
DTSTAMP:20260419T232459
CREATED:20230919T174756Z
LAST-MODIFIED:20230919T174756Z
UID:3062-1700064000-1700071200@alfredboxofbookslibrary.org
SUMMARY:Wordpress Website Management Workshop
DESCRIPTION:If you manage a WordPress Website and want to learn more about WordPress\, this is the workshop for you. \nLearn to create and publish your website\, revitalize an existing website and upload media to your site. \nThis workshop is designed for beginning WordPress users. \nParticipants can bring their own computers or use a library laptop. Class size is limited. \nPlease call or email the library to register: 607-587-9290 or alfred@stls.org
URL:https://alfredboxofbookslibrary.org/event/wordpress-website-management-workshop/
LOCATION:Alfred Box of Books Library\, 1 West University Street\, Alfred\, NY\, 14802-1113\, United States
ORGANIZER;CN="Alfred Box of Books Library":MAILTO:alfred@stls.org
END:VEVENT
BEGIN:VEVENT
DTSTART;TZID=UTC:20231115T180000
DTEND;TZID=UTC:20231115T200000
DTSTAMP:20260419T232459
CREATED:20231030T192531Z
LAST-MODIFIED:20231030T192603Z
UID:3152-1700071200-1700078400@alfredboxofbookslibrary.org
SUMMARY:Story and Space in VR
DESCRIPTION:Learn about virtual reality and the creation of space in games and virtual reality with Dr. Steve Guynup.  This is a hands on world building workshop with a focus on the stories spaces tell. \nDr. Steve Guynup is an award winning VR artist and Game Design teacher at Southern New Hampshire University. \nSmall group workshops will be held in online platform\, FrameVR. \nIf you need a computer or internet access to participate in a workshop\, please let us know. \nThis project is made possible with funds from the Statewide Community regrants program\, a regrant program of the New York State Council on the Arts with the support of the Governor and the New York State legislature and administered by the Arts Council for Wyoming County. 
URL:https://alfredboxofbookslibrary.org/event/story-and-space-in-vr/
LOCATION:NY
ORGANIZER;CN="Alfred Box of Books Library":MAILTO:alfred@stls.org
END:VEVENT
END:VCALENDAR