BEGIN:VCALENDAR
VERSION:2.0
PRODID:-//Alfred Box of Books Library - ECPv6.15.20//NONSGML v1.0//EN
CALSCALE:GREGORIAN
METHOD:PUBLISH
X-ORIGINAL-URL:https://alfredboxofbookslibrary.org
X-WR-CALDESC:Events for Alfred Box of Books Library
REFRESH-INTERVAL;VALUE=DURATION:PT1H
X-Robots-Tag:noindex
X-PUBLISHED-TTL:PT1H
BEGIN:VTIMEZONE
TZID:UTC
BEGIN:STANDARD
TZOFFSETFROM:+0000
TZOFFSETTO:+0000
TZNAME:UTC
DTSTART:20220101T000000
END:STANDARD
END:VTIMEZONE
BEGIN:VEVENT
DTSTART;TZID=UTC:20231120T113000
DTEND;TZID=UTC:20231120T113000
DTSTAMP:20260419T232514
CREATED:20231024T144549Z
LAST-MODIFIED:20231024T145120Z
UID:3132-1700479800-1700479800@alfredboxofbookslibrary.org
SUMMARY:Understanding Climate Change
DESCRIPTION:Mary Lu Wells will break down the science behind climate change\, to help better understand what is going on\, how we know\, and what we can do to help. This 7 week class will take place via Zoom\, or you can join in-person at the library. \nZoom Link
URL:https://alfredboxofbookslibrary.org/event/understanding-climate-change-2/
LOCATION:NY
END:VEVENT
END:VCALENDAR