BEGIN:VCALENDAR
VERSION:2.0
PRODID:-//Alfred Box of Books Library - ECPv6.15.20//NONSGML v1.0//EN
CALSCALE:GREGORIAN
METHOD:PUBLISH
X-WR-CALNAME:Alfred Box of Books Library
X-ORIGINAL-URL:https://alfredboxofbookslibrary.org
X-WR-CALDESC:Events for Alfred Box of Books Library
REFRESH-INTERVAL;VALUE=DURATION:PT1H
X-Robots-Tag:noindex
X-PUBLISHED-TTL:PT1H
BEGIN:VTIMEZONE
TZID:UTC
BEGIN:STANDARD
TZOFFSETFROM:+0000
TZOFFSETTO:+0000
TZNAME:UTC
DTSTART:20230101T000000
END:STANDARD
END:VTIMEZONE
BEGIN:VEVENT
DTSTART;TZID=UTC:20240121T130000
DTEND;TZID=UTC:20240121T150000
DTSTAMP:20260420T123826
CREATED:20231122T174616Z
LAST-MODIFIED:20231217T200901Z
UID:3191-1705842000-1705849200@alfredboxofbookslibrary.org
SUMMARY:How It's Made: Honey Pot Chocolates
DESCRIPTION:Local candy maker\, Connie McGraw\, will be at the library to share how she makes those delicious chocolates. \nClick here to register!
URL:https://alfredboxofbookslibrary.org/event/how-its-made-honey-pot-chocolates/
LOCATION:Alfred Box of Books Library\, 1 West University Street\, Alfred\, NY\, 14802-1113\, United States
ORGANIZER;CN="Alfred Box of Books Library":MAILTO:alfred@stls.org
END:VEVENT
END:VCALENDAR