BEGIN:VCALENDAR
VERSION:2.0
PRODID:-//Alfred Box of Books Library - ECPv6.15.20//NONSGML v1.0//EN
CALSCALE:GREGORIAN
METHOD:PUBLISH
X-WR-CALNAME:Alfred Box of Books Library
X-ORIGINAL-URL:https://alfredboxofbookslibrary.org
X-WR-CALDESC:Events for Alfred Box of Books Library
REFRESH-INTERVAL;VALUE=DURATION:PT1H
X-Robots-Tag:noindex
X-PUBLISHED-TTL:PT1H
BEGIN:VTIMEZONE
TZID:UTC
BEGIN:STANDARD
TZOFFSETFROM:+0000
TZOFFSETTO:+0000
TZNAME:UTC
DTSTART:20230101T000000
END:STANDARD
END:VTIMEZONE
BEGIN:VEVENT
DTSTART;TZID=UTC:20240123T140000
DTEND;TZID=UTC:20240123T160000
DTSTAMP:20260420T140342
CREATED:20231122T173950Z
LAST-MODIFIED:20231217T200246Z
UID:3187-1706018400-1706025600@alfredboxofbookslibrary.org
SUMMARY:Let's Play Mah Jongg
DESCRIPTION:If you want to learn a new game\, or want to find others to play with join us at the library! Cathy Powers will be here to teach Mah Jongg to beginners! \nClick here to register!
URL:https://alfredboxofbookslibrary.org/event/lets-play-mah-jongg-2/
LOCATION:Alfred Box of Books Library\, 1 West University Street\, Alfred\, NY\, 14802-1113\, United States
ORGANIZER;CN="Alfred Box of Books Library":MAILTO:alfred@stls.org
END:VEVENT
END:VCALENDAR