BEGIN:VCALENDAR
VERSION:2.0
PRODID:-//Alfred Box of Books Library - ECPv6.15.20//NONSGML v1.0//EN
CALSCALE:GREGORIAN
METHOD:PUBLISH
X-ORIGINAL-URL:https://alfredboxofbookslibrary.org
X-WR-CALDESC:Events for Alfred Box of Books Library
REFRESH-INTERVAL;VALUE=DURATION:PT1H
X-Robots-Tag:noindex
X-PUBLISHED-TTL:PT1H
BEGIN:VTIMEZONE
TZID:UTC
BEGIN:STANDARD
TZOFFSETFROM:+0000
TZOFFSETTO:+0000
TZNAME:UTC
DTSTART:20230101T000000
END:STANDARD
END:VTIMEZONE
BEGIN:VEVENT
DTSTART;TZID=UTC:20240125T153000
DTEND;TZID=UTC:20240125T153000
DTSTAMP:20260420T140633
CREATED:20231127T224443Z
LAST-MODIFIED:20231127T224443Z
UID:3216-1706196600-1706196600@alfredboxofbookslibrary.org
SUMMARY:Indoor Play Group
DESCRIPTION:Beat cabin fever and head to the library! Come to the library for free play and meet other families with little ones. We’ll provide the toys and coloring pages.
URL:https://alfredboxofbookslibrary.org/event/indoor-play-group-4/
LOCATION:NY
END:VEVENT
END:VCALENDAR