BEGIN:VCALENDAR
VERSION:2.0
PRODID:-//Alfred Box of Books Library - ECPv6.15.20//NONSGML v1.0//EN
CALSCALE:GREGORIAN
METHOD:PUBLISH
X-WR-CALNAME:Alfred Box of Books Library
X-ORIGINAL-URL:https://alfredboxofbookslibrary.org
X-WR-CALDESC:Events for Alfred Box of Books Library
REFRESH-INTERVAL;VALUE=DURATION:PT1H
X-Robots-Tag:noindex
X-PUBLISHED-TTL:PT1H
BEGIN:VTIMEZONE
TZID:UTC
BEGIN:STANDARD
TZOFFSETFROM:+0000
TZOFFSETTO:+0000
TZNAME:UTC
DTSTART:20230101T000000
END:STANDARD
END:VTIMEZONE
BEGIN:VEVENT
DTSTART;TZID=UTC:20240131T110000
DTEND;TZID=UTC:20240131T110000
DTSTAMP:20260420T140343
CREATED:20231128T193155Z
LAST-MODIFIED:20231128T193155Z
UID:3237-1706698800-1706698800@alfredboxofbookslibrary.org
SUMMARY:No Storytime this week!
DESCRIPTION:There is no storytime this week\, but you can still stop by the library to play!
URL:https://alfredboxofbookslibrary.org/event/no-storytime-this-week-4/
LOCATION:NY
END:VEVENT
END:VCALENDAR