BEGIN:VCALENDAR
VERSION:2.0
PRODID:-//Alfred Box of Books Library - ECPv6.15.20//NONSGML v1.0//EN
CALSCALE:GREGORIAN
METHOD:PUBLISH
X-WR-CALNAME:Alfred Box of Books Library
X-ORIGINAL-URL:https://alfredboxofbookslibrary.org
X-WR-CALDESC:Events for Alfred Box of Books Library
REFRESH-INTERVAL;VALUE=DURATION:PT1H
X-Robots-Tag:noindex
X-PUBLISHED-TTL:PT1H
BEGIN:VTIMEZONE
TZID:UTC
BEGIN:STANDARD
TZOFFSETFROM:+0000
TZOFFSETTO:+0000
TZNAME:UTC
DTSTART:20230101T000000
END:STANDARD
END:VTIMEZONE
BEGIN:VEVENT
DTSTART;TZID=UTC:20240209T160000
DTEND;TZID=UTC:20240209T173000
DTSTAMP:20260420T154822
CREATED:20231122T175411Z
LAST-MODIFIED:20231218T214144Z
UID:3197-1707494400-1707499800@alfredboxofbookslibrary.org
SUMMARY:Chinese Lunar New Year Celebration
DESCRIPTION:Make a wood burned dragon ornament to celebrate the year of the dragon! We’ll have treat bags and favors\, too! \nClick here to register!
URL:https://alfredboxofbookslibrary.org/event/chinese-lunar-new-year-celebration/
LOCATION:Alfred Box of Books Library\, 1 West University Street\, Alfred\, NY\, 14802-1113\, United States
ORGANIZER;CN="Alfred Box of Books Library":MAILTO:alfred@stls.org
END:VEVENT
END:VCALENDAR