BEGIN:VCALENDAR
VERSION:2.0
PRODID:-//Alfred Box of Books Library - ECPv6.15.20//NONSGML v1.0//EN
CALSCALE:GREGORIAN
METHOD:PUBLISH
X-WR-CALNAME:Alfred Box of Books Library
X-ORIGINAL-URL:https://alfredboxofbookslibrary.org
X-WR-CALDESC:Events for Alfred Box of Books Library
REFRESH-INTERVAL;VALUE=DURATION:PT1H
X-Robots-Tag:noindex
X-PUBLISHED-TTL:PT1H
BEGIN:VTIMEZONE
TZID:UTC
BEGIN:STANDARD
TZOFFSETFROM:+0000
TZOFFSETTO:+0000
TZNAME:UTC
DTSTART:20230101T000000
END:STANDARD
END:VTIMEZONE
BEGIN:VEVENT
DTSTART;TZID=UTC:20240219T110000
DTEND;TZID=UTC:20240219T120000
DTSTAMP:20260420T140515
CREATED:20231127T222824Z
LAST-MODIFIED:20231218T214300Z
UID:3200-1708340400-1708344000@alfredboxofbookslibrary.org
SUMMARY:Hedgehog Visit
DESCRIPTION:School is out for President’s day. Join us today as we will be reading “Hedgehog Needs a Hug” and visit with a live hedgehog from Sun Dance Kids Farm! \nClick here to register! \n 
URL:https://alfredboxofbookslibrary.org/event/hedgehog-visit/
LOCATION:Alfred Box of Books Library\, 1 West University Street\, Alfred\, NY\, 14802-1113\, United States
ORGANIZER;CN="Alfred Box of Books Library":MAILTO:alfred@stls.org
END:VEVENT
END:VCALENDAR