BEGIN:VCALENDAR
VERSION:2.0
PRODID:-//Alfred Box of Books Library - ECPv6.15.20//NONSGML v1.0//EN
CALSCALE:GREGORIAN
METHOD:PUBLISH
X-ORIGINAL-URL:https://alfredboxofbookslibrary.org
X-WR-CALDESC:Events for Alfred Box of Books Library
REFRESH-INTERVAL;VALUE=DURATION:PT1H
X-Robots-Tag:noindex
X-PUBLISHED-TTL:PT1H
BEGIN:VTIMEZONE
TZID:UTC
BEGIN:STANDARD
TZOFFSETFROM:+0000
TZOFFSETTO:+0000
TZNAME:UTC
DTSTART:20230101T000000
END:STANDARD
END:VTIMEZONE
BEGIN:VEVENT
DTSTART;TZID=UTC:20240220T140000
DTEND;TZID=UTC:20240220T140000
DTSTAMP:20260420T140650
CREATED:20240130T184701Z
LAST-MODIFIED:20240130T191354Z
UID:3301-1708437600-1708437600@alfredboxofbookslibrary.org
SUMMARY:Mah Jong at the Library
DESCRIPTION:Join with other players at the library every Tuesday.  If you’re a beginner or a regular player\,  you’re invited to join in the fun! Sets are provided.
URL:https://alfredboxofbookslibrary.org/event/mah-jong-at-the-library-4/
LOCATION:NY
END:VEVENT
END:VCALENDAR