BEGIN:VCALENDAR
VERSION:2.0
PRODID:-//Alfred Box of Books Library - ECPv6.15.20//NONSGML v1.0//EN
CALSCALE:GREGORIAN
METHOD:PUBLISH
X-ORIGINAL-URL:https://alfredboxofbookslibrary.org
X-WR-CALDESC:Events for Alfred Box of Books Library
REFRESH-INTERVAL;VALUE=DURATION:PT1H
X-Robots-Tag:noindex
X-PUBLISHED-TTL:PT1H
BEGIN:VTIMEZONE
TZID:UTC
BEGIN:STANDARD
TZOFFSETFROM:+0000
TZOFFSETTO:+0000
TZNAME:UTC
DTSTART:20230101T000000
END:STANDARD
END:VTIMEZONE
BEGIN:VEVENT
DTSTART;TZID=UTC:20240221T110000
DTEND;TZID=UTC:20240221T110000
DTSTAMP:20260420T140647
CREATED:20231128T193207Z
LAST-MODIFIED:20231128T193207Z
UID:3240-1708513200-1708513200@alfredboxofbookslibrary.org
SUMMARY:Storytime: Pets
DESCRIPTION:Dogs! Cats! Fish! Oh my! This week at storytime we’re reading about pets! Bring a picture of your pet and tell us all about them.
URL:https://alfredboxofbookslibrary.org/event/storytime-pets/
LOCATION:NY
END:VEVENT
BEGIN:VEVENT
DTSTART;TZID=UTC:20240221T130000
DTEND;TZID=UTC:20240221T140000
DTSTAMP:20260420T140647
CREATED:20231127T223045Z
LAST-MODIFIED:20231218T214447Z
UID:3202-1708520400-1708524000@alfredboxofbookslibrary.org
SUMMARY:Introduction to ASL
DESCRIPTION:Richie Reisner will be at the library to teach an into to basic American Sign Language. \nRecommended developmental age: 6+ \nClick here to register! \n 
URL:https://alfredboxofbookslibrary.org/event/introduction-to-asl/
LOCATION:Alfred Box of Books Library\, 1 West University Street\, Alfred\, NY\, 14802-1113\, United States
ORGANIZER;CN="Alfred Box of Books Library":MAILTO:alfred@stls.org
END:VEVENT
END:VCALENDAR