BEGIN:VCALENDAR
VERSION:2.0
PRODID:-//Alfred Box of Books Library - ECPv6.15.20//NONSGML v1.0//EN
CALSCALE:GREGORIAN
METHOD:PUBLISH
X-WR-CALNAME:Alfred Box of Books Library
X-ORIGINAL-URL:https://alfredboxofbookslibrary.org
X-WR-CALDESC:Events for Alfred Box of Books Library
REFRESH-INTERVAL;VALUE=DURATION:PT1H
X-Robots-Tag:noindex
X-PUBLISHED-TTL:PT1H
BEGIN:VTIMEZONE
TZID:UTC
BEGIN:STANDARD
TZOFFSETFROM:+0000
TZOFFSETTO:+0000
TZNAME:UTC
DTSTART:20230101T000000
END:STANDARD
END:VTIMEZONE
BEGIN:VEVENT
DTSTART;TZID=UTC:20240222T153000
DTEND;TZID=UTC:20240222T153000
DTSTAMP:20260420T140458
CREATED:20231127T224449Z
LAST-MODIFIED:20231127T224449Z
UID:3220-1708615800-1708615800@alfredboxofbookslibrary.org
SUMMARY:Indoor Play Group
DESCRIPTION:Beat cabin fever and head to the library! Come to the library for free play and meet other families with little ones. We’ll provide the toys and coloring pages.
URL:https://alfredboxofbookslibrary.org/event/indoor-play-group-8/
LOCATION:NY
END:VEVENT
BEGIN:VEVENT
DTSTART;TZID=UTC:20240222T170000
DTEND;TZID=UTC:20240222T183000
DTSTAMP:20260420T140458
CREATED:20240201T164512Z
LAST-MODIFIED:20240205T190903Z
UID:3347-1708621200-1708626600@alfredboxofbookslibrary.org
SUMMARY:STEM Tales: Fiona the Fruit Bat
DESCRIPTION:The library is excited to share that we are offering a series of four STEM (Science\, Technology\, Engineering\, and Math) programs from children ages 4-8 and their families! \nIn partnership with the National Science Foundation\, Twin Cities PBS\, and StarNet\, the library will host programs centered around a different STEM topic and picture book. \nParticipants can attend one\, some\, or all sessions free of charge. Participants will receive free take home activities kits. Light refreshments will be served at each program. Register here: https://forms.gle/ZSGpfghMBNz68ZjU8  \nPlease note: Some programs are held at Alfred Montessori School and some are held at the Box of Books. \nIf you have any questions\, please reach out to the library at millerm@stls.org.
URL:https://alfredboxofbookslibrary.org/event/stem-tales-fiona-the-fruit-bat/
LOCATION:Alfred Montessori School\, 8 1/2 South Main Street\, Alfred\, NY\, 14802\, United States
ORGANIZER;CN="Alfred Box of Books Library":MAILTO:alfred@stls.org
END:VEVENT
END:VCALENDAR