BEGIN:VCALENDAR
VERSION:2.0
PRODID:-//Alfred Box of Books Library - ECPv6.15.20//NONSGML v1.0//EN
CALSCALE:GREGORIAN
METHOD:PUBLISH
X-WR-CALNAME:Alfred Box of Books Library
X-ORIGINAL-URL:https://alfredboxofbookslibrary.org
X-WR-CALDESC:Events for Alfred Box of Books Library
REFRESH-INTERVAL;VALUE=DURATION:PT1H
X-Robots-Tag:noindex
X-PUBLISHED-TTL:PT1H
BEGIN:VTIMEZONE
TZID:UTC
BEGIN:STANDARD
TZOFFSETFROM:+0000
TZOFFSETTO:+0000
TZNAME:UTC
DTSTART:20230101T000000
END:STANDARD
END:VTIMEZONE
BEGIN:VEVENT
DTSTART;TZID=UTC:20240320T110000
DTEND;TZID=UTC:20240320T110000
DTSTAMP:20260420T154809
CREATED:20231128T193211Z
LAST-MODIFIED:20231128T193211Z
UID:3244-1710932400-1710932400@alfredboxofbookslibrary.org
SUMMARY:Storytime: Spring
DESCRIPTION:Spring is here! We’ll read all about spring and make a craft! Recommended developmental age: 0-5years.
URL:https://alfredboxofbookslibrary.org/event/storytime-spring/
LOCATION:NY
END:VEVENT
END:VCALENDAR