BEGIN:VCALENDAR
VERSION:2.0
PRODID:-//Alfred Box of Books Library - ECPv6.15.20//NONSGML v1.0//EN
CALSCALE:GREGORIAN
METHOD:PUBLISH
X-ORIGINAL-URL:https://alfredboxofbookslibrary.org
X-WR-CALDESC:Events for Alfred Box of Books Library
REFRESH-INTERVAL;VALUE=DURATION:PT1H
X-Robots-Tag:noindex
X-PUBLISHED-TTL:PT1H
BEGIN:VTIMEZONE
TZID:UTC
BEGIN:STANDARD
TZOFFSETFROM:+0000
TZOFFSETTO:+0000
TZNAME:UTC
DTSTART:20230101T000000
END:STANDARD
END:VTIMEZONE
BEGIN:VEVENT
DTSTART;TZID=UTC:20240405T160000
DTEND;TZID=UTC:20240405T170000
DTSTAMP:20260420T154921
CREATED:20240215T201251Z
LAST-MODIFIED:20240215T201251Z
UID:3388-1712332800-1712336400@alfredboxofbookslibrary.org
SUMMARY:Eclipse Chalk
DESCRIPTION:Let’s color the sidewalks to celebrate the solar eclipse! Create chalk art of all things stars\, moon\, and sun! \nChildren must be accompanied by a supervising adult. \nThis program is weather permitting!
URL:https://alfredboxofbookslibrary.org/event/eclipse-chalk/
LOCATION:Alfred Box of Books Library\, 1 West University Street\, Alfred\, NY\, 14802-1113\, United States
ORGANIZER;CN="Alfred Box of Books Library":MAILTO:alfred@stls.org
END:VEVENT
END:VCALENDAR