BEGIN:VCALENDAR
VERSION:2.0
PRODID:-//Alfred Box of Books Library - ECPv6.15.20//NONSGML v1.0//EN
CALSCALE:GREGORIAN
METHOD:PUBLISH
X-ORIGINAL-URL:https://alfredboxofbookslibrary.org
X-WR-CALDESC:Events for Alfred Box of Books Library
REFRESH-INTERVAL;VALUE=DURATION:PT1H
X-Robots-Tag:noindex
X-PUBLISHED-TTL:PT1H
BEGIN:VTIMEZONE
TZID:UTC
BEGIN:STANDARD
TZOFFSETFROM:+0000
TZOFFSETTO:+0000
TZNAME:UTC
DTSTART:20230101T000000
END:STANDARD
END:VTIMEZONE
BEGIN:VEVENT
DTSTART;TZID=UTC:20240419T180000
DTEND;TZID=UTC:20240419T200000
DTSTAMP:20260420T172358
CREATED:20240226T182642Z
LAST-MODIFIED:20240226T182642Z
UID:3402-1713549600-1713556800@alfredboxofbookslibrary.org
SUMMARY:Post It Trivia Night
DESCRIPTION:DJ Macool will be in Alfred to host Post It Trivia.  Gather a team and join us at Susan Howell Hall on the Alfred University Campus for tons of fun! This program is FREE and open to the public. Players should be 16+. \nRefreshments provided by Alfred University Student Activities.
URL:https://alfredboxofbookslibrary.org/event/post-it-trivia-night/
LOCATION:NY
ORGANIZER;CN="Alfred Box of Books Library":MAILTO:alfred@stls.org
END:VEVENT
END:VCALENDAR