BEGIN:VCALENDAR
VERSION:2.0
PRODID:-//Alfred Box of Books Library - ECPv6.15.20//NONSGML v1.0//EN
CALSCALE:GREGORIAN
METHOD:PUBLISH
X-WR-CALNAME:Alfred Box of Books Library
X-ORIGINAL-URL:https://alfredboxofbookslibrary.org
X-WR-CALDESC:Events for Alfred Box of Books Library
REFRESH-INTERVAL;VALUE=DURATION:PT1H
X-Robots-Tag:noindex
X-PUBLISHED-TTL:PT1H
BEGIN:VTIMEZONE
TZID:UTC
BEGIN:STANDARD
TZOFFSETFROM:+0000
TZOFFSETTO:+0000
TZNAME:UTC
DTSTART:20230101T000000
END:STANDARD
END:VTIMEZONE
BEGIN:VEVENT
DTSTART;TZID=UTC:20240708T160000
DTEND;TZID=UTC:20240708T180000
DTSTAMP:20260420T223351
CREATED:20240524T145902Z
LAST-MODIFIED:20240618T190256Z
UID:3582-1720454400-1720461600@alfredboxofbookslibrary.org
SUMMARY:Summer Reading Registration Event
DESCRIPTION:Sign up for summer reading and enjoy plenty of activities and snacks! \nLive music by the Sumac Ridge Duo. \nThe whole family can join summer reading fun.  Earn prizes all summer long.
URL:https://alfredboxofbookslibrary.org/event/summer-reading-registration-begins/
LOCATION:Alfred Box of Books Library\, 1 West University Street\, Alfred\, NY\, 14802-1113\, United States
CATEGORIES:General Audience
ORGANIZER;CN="Alfred Box of Books Library":MAILTO:alfred@stls.org
END:VEVENT
END:VCALENDAR