BEGIN:VCALENDAR
VERSION:2.0
PRODID:-//Alfred Box of Books Library - ECPv6.15.20//NONSGML v1.0//EN
CALSCALE:GREGORIAN
METHOD:PUBLISH
X-WR-CALNAME:Alfred Box of Books Library
X-ORIGINAL-URL:https://alfredboxofbookslibrary.org
X-WR-CALDESC:Events for Alfred Box of Books Library
REFRESH-INTERVAL;VALUE=DURATION:PT1H
X-Robots-Tag:noindex
X-PUBLISHED-TTL:PT1H
BEGIN:VTIMEZONE
TZID:UTC
BEGIN:STANDARD
TZOFFSETFROM:+0000
TZOFFSETTO:+0000
TZNAME:UTC
DTSTART:20230101T000000
END:STANDARD
END:VTIMEZONE
BEGIN:VEVENT
DTSTART;TZID=UTC:20240709T140000
DTEND;TZID=UTC:20240709T160000
DTSTAMP:20260420T223427
CREATED:20240709T125512Z
LAST-MODIFIED:20240709T125743Z
UID:3721-1720533600-1720540800@alfredboxofbookslibrary.org
SUMMARY:Mah Jongg at the Library
DESCRIPTION:Beginners and experienced players are invited to the library to play mah jongg every Tuesday.
URL:https://alfredboxofbookslibrary.org/event/mah-jongg-at-the-library/
LOCATION:Alfred Box of Books Library\, 1 West University Street\, Alfred\, NY\, 14802-1113\, United States
CATEGORIES:General Audience
ORGANIZER;CN="Alfred Box of Books Library":MAILTO:alfred@stls.org
END:VEVENT
BEGIN:VEVENT
DTSTART;TZID=UTC:20240709T170000
DTEND;TZID=UTC:20240709T180000
DTSTAMP:20260420T223427
CREATED:20240524T145136Z
LAST-MODIFIED:20240618T190356Z
UID:3576-1720544400-1720548000@alfredboxofbookslibrary.org
SUMMARY:True Crime Book Club
DESCRIPTION:Join us for a book club that is all things true crime. Free beverage and book provided! \nInterested in participating? Email alfred@stls.org. \nThis month we will meet at the library.
URL:https://alfredboxofbookslibrary.org/event/true-crime-book-club-25/
LOCATION:Alfred Box of Books Library\, 1 West University Street\, Alfred\, NY\, 14802-1113\, United States
CATEGORIES:Adult Programs
ORGANIZER;CN="Alfred Box of Books Library":MAILTO:alfred@stls.org
END:VEVENT
END:VCALENDAR