BEGIN:VCALENDAR
VERSION:2.0
PRODID:-//Alfred Box of Books Library - ECPv6.15.20//NONSGML v1.0//EN
CALSCALE:GREGORIAN
METHOD:PUBLISH
X-ORIGINAL-URL:https://alfredboxofbookslibrary.org
X-WR-CALDESC:Events for Alfred Box of Books Library
REFRESH-INTERVAL;VALUE=DURATION:PT1H
X-Robots-Tag:noindex
X-PUBLISHED-TTL:PT1H
BEGIN:VTIMEZONE
TZID:UTC
BEGIN:STANDARD
TZOFFSETFROM:+0000
TZOFFSETTO:+0000
TZNAME:UTC
DTSTART:20230101T000000
END:STANDARD
END:VTIMEZONE
BEGIN:VEVENT
DTSTART;TZID=UTC:20240724T110000
DTEND;TZID=UTC:20240724T113000
DTSTAMP:20260420T223544
CREATED:20240524T150752Z
LAST-MODIFIED:20240618T190823Z
UID:3598-1721818800-1721820600@alfredboxofbookslibrary.org
SUMMARY:Storytime: We're Going on a Dinosaur Dig!
DESCRIPTION:Today\, we’re on an adventure to learn about dinosaurs. We’ll have several dino-themed stories and activities (including digging a dinosaur egg!) \nChildren 0-5 and their caregivers.
URL:https://alfredboxofbookslibrary.org/event/storytime-were-going-on-a-dinosaur-dig/
LOCATION:Alfred Box of Books Library\, 1 West University Street\, Alfred\, NY\, 14802-1113\, United States
CATEGORIES:Children's Program
ORGANIZER;CN="Alfred Box of Books Library":MAILTO:alfred@stls.org
END:VEVENT
BEGIN:VEVENT
DTSTART;TZID=UTC:20240724T180000
DTEND;TZID=UTC:20240724T200000
DTSTAMP:20260420T223544
CREATED:20240603T173910Z
LAST-MODIFIED:20240618T190846Z
UID:3611-1721844000-1721851200@alfredboxofbookslibrary.org
SUMMARY:Dungeons and Dragons- Adults
DESCRIPTION:Adults (18+) are invited to join us for Dungeons and Dragons in the library! \nThis session is for beginners or experienced players. \nSnacks\, characters and dice will be provided. And everyone who attends will receive a FREE D20! \nNo Registration required.
URL:https://alfredboxofbookslibrary.org/event/dungeons-and-dragons-adults/
LOCATION:Alfred Box of Books Library\, 1 West University Street\, Alfred\, NY\, 14802-1113\, United States
CATEGORIES:Adult Programs
ORGANIZER;CN="Alfred Box of Books Library":MAILTO:alfred@stls.org
END:VEVENT
END:VCALENDAR