BEGIN:VCALENDAR
VERSION:2.0
PRODID:-//Alfred Box of Books Library - ECPv6.15.20//NONSGML v1.0//EN
CALSCALE:GREGORIAN
METHOD:PUBLISH
X-WR-CALNAME:Alfred Box of Books Library
X-ORIGINAL-URL:https://alfredboxofbookslibrary.org
X-WR-CALDESC:Events for Alfred Box of Books Library
REFRESH-INTERVAL;VALUE=DURATION:PT1H
X-Robots-Tag:noindex
X-PUBLISHED-TTL:PT1H
BEGIN:VTIMEZONE
TZID:UTC
BEGIN:STANDARD
TZOFFSETFROM:+0000
TZOFFSETTO:+0000
TZNAME:UTC
DTSTART:20230101T000000
END:STANDARD
END:VTIMEZONE
BEGIN:VEVENT
DTSTART;TZID=UTC:20240731T110000
DTEND;TZID=UTC:20240731T113000
DTSTAMP:20260420T223410
CREATED:20240524T150843Z
LAST-MODIFIED:20240524T150843Z
UID:3600-1722423600-1722425400@alfredboxofbookslibrary.org
SUMMARY:No Storytime
DESCRIPTION:There is no storytime today. Join us next week for more adventures!
URL:https://alfredboxofbookslibrary.org/event/no-storytime-3/
LOCATION:NY
END:VEVENT
BEGIN:VEVENT
DTSTART;TZID=UTC:20240731T150000
DTEND;TZID=UTC:20240731T160000
DTSTAMP:20260420T223410
CREATED:20240524T151246Z
LAST-MODIFIED:20240618T190943Z
UID:3602-1722438000-1722441600@alfredboxofbookslibrary.org
SUMMARY:Strange History on the Erie Canal
DESCRIPTION:David Brooks from the Schoharie Crossing State Historic Site will visit Alfred to share a program “Strange History From Along the Erie Canal at Schoharie Crossing.” \n“Explore the Erie Canal at Schoharie Crossing through strange bits of history that feature murder\, mayhem\, arson\, accidents and more!  This program uncovers aspects of the site history related to the canal\, railroad\, and people that may otherwise be unknown.”
URL:https://alfredboxofbookslibrary.org/event/strange-history-on-the-erie-canal/
LOCATION:Alfred Box of Books Library\, 1 West University Street\, Alfred\, NY\, 14802-1113\, United States
CATEGORIES:General Audience
ORGANIZER;CN="Alfred Box of Books Library":MAILTO:alfred@stls.org
END:VEVENT
END:VCALENDAR