BEGIN:VCALENDAR
VERSION:2.0
PRODID:-//Alfred Box of Books Library - ECPv6.15.20//NONSGML v1.0//EN
CALSCALE:GREGORIAN
METHOD:PUBLISH
X-ORIGINAL-URL:https://alfredboxofbookslibrary.org
X-WR-CALDESC:Events for Alfred Box of Books Library
REFRESH-INTERVAL;VALUE=DURATION:PT1H
X-Robots-Tag:noindex
X-PUBLISHED-TTL:PT1H
BEGIN:VTIMEZONE
TZID:UTC
BEGIN:STANDARD
TZOFFSETFROM:+0000
TZOFFSETTO:+0000
TZNAME:UTC
DTSTART:20230101T000000
END:STANDARD
END:VTIMEZONE
BEGIN:VEVENT
DTSTART;TZID=UTC:20240810T140000
DTEND;TZID=UTC:20240810T160000
DTSTAMP:20260421T002019
CREATED:20240607T170230Z
LAST-MODIFIED:20240618T191253Z
UID:3651-1723298400-1723305600@alfredboxofbookslibrary.org
SUMMARY:Dungeons and Dragons for Teens
DESCRIPTION:Teens are invited to join us for Dungeons and Dragons at the library. \nCharacters\, refreshment\, and dice will be provided. \nParticipants will receive a FREE d20! \n 
URL:https://alfredboxofbookslibrary.org/event/dungeons-and-dragons-for-teens/
LOCATION:Alfred Box of Books Library\, 1 West University Street\, Alfred\, NY\, 14802-1113\, United States
CATEGORIES:Teen Program
ORGANIZER;CN="Alfred Box of Books Library":MAILTO:alfred@stls.org
END:VEVENT
END:VCALENDAR