BEGIN:VCALENDAR
VERSION:2.0
PRODID:-//Alfred Box of Books Library - ECPv6.15.20//NONSGML v1.0//EN
CALSCALE:GREGORIAN
METHOD:PUBLISH
X-ORIGINAL-URL:https://alfredboxofbookslibrary.org
X-WR-CALDESC:Events for Alfred Box of Books Library
REFRESH-INTERVAL;VALUE=DURATION:PT1H
X-Robots-Tag:noindex
X-PUBLISHED-TTL:PT1H
BEGIN:VTIMEZONE
TZID:UTC
BEGIN:STANDARD
TZOFFSETFROM:+0000
TZOFFSETTO:+0000
TZNAME:UTC
DTSTART:20230101T000000
END:STANDARD
END:VTIMEZONE
BEGIN:VEVENT
DTSTART;TZID=UTC:20240813T140000
DTEND;TZID=UTC:20240813T140000
DTSTAMP:20260421T002019
CREATED:20240709T125519Z
LAST-MODIFIED:20240709T130111Z
UID:3726-1723557600-1723557600@alfredboxofbookslibrary.org
SUMMARY:Mah Jongg at the Library
DESCRIPTION:Beginners and experienced players are invited to the library to play mah jongg every Tuesday.
URL:https://alfredboxofbookslibrary.org/event/mah-jongg-at-the-library-6/
LOCATION:Alfred Box of Books Library\, 1 West University Street\, Alfred\, NY\, 14802-1113\, United States
CATEGORIES:General Audience
ORGANIZER;CN="Alfred Box of Books Library":MAILTO:alfred@stls.org
END:VEVENT
BEGIN:VEVENT
DTSTART;TZID=UTC:20240813T170000
DTEND;TZID=UTC:20240813T180000
DTSTAMP:20260421T002019
CREATED:20240607T172803Z
LAST-MODIFIED:20240618T191308Z
UID:3653-1723568400-1723572000@alfredboxofbookslibrary.org
SUMMARY:Visit with a Hot Air Balloon Pilot
DESCRIPTION:Hot Air Balloon pilot\, Vickie Ketchner will be at the library to share about piloting! Learn how hot air balloons work\, what it takes to be a pilot and more! Depending on the weather\, the basket will be available for you to step into! \nVickie pilot’s the balloon Blu-By-U.  You can find her at the Wellsville Balloon Rally!
URL:https://alfredboxofbookslibrary.org/event/visit-with-a-hot-air-balloon-pilot/
LOCATION:Alfred Box of Books Library\, 1 West University Street\, Alfred\, NY\, 14802-1113\, United States
CATEGORIES:General Audience
ORGANIZER;CN="Alfred Box of Books Library":MAILTO:alfred@stls.org
END:VEVENT
END:VCALENDAR