BEGIN:VCALENDAR
VERSION:2.0
PRODID:-//Alfred Box of Books Library - ECPv6.15.20//NONSGML v1.0//EN
CALSCALE:GREGORIAN
METHOD:PUBLISH
X-WR-CALNAME:Alfred Box of Books Library
X-ORIGINAL-URL:https://alfredboxofbookslibrary.org
X-WR-CALDESC:Events for Alfred Box of Books Library
REFRESH-INTERVAL;VALUE=DURATION:PT1H
X-Robots-Tag:noindex
X-PUBLISHED-TTL:PT1H
BEGIN:VTIMEZONE
TZID:UTC
BEGIN:STANDARD
TZOFFSETFROM:+0000
TZOFFSETTO:+0000
TZNAME:UTC
DTSTART:20230101T000000
END:STANDARD
END:VTIMEZONE
BEGIN:VEVENT
DTSTART;TZID=UTC:20240917T140000
DTEND;TZID=UTC:20240917T140000
DTSTAMP:20260421T020243
CREATED:20240819T154908Z
LAST-MODIFIED:20240827T181016Z
UID:3818-1726581600-1726581600@alfredboxofbookslibrary.org
SUMMARY:Chinese Mah Jongg
DESCRIPTION:Join us every Tuesday for Chinese  Mah Jongg.  All skill levels welcome!
URL:https://alfredboxofbookslibrary.org/event/chinese-mah-jongg/
LOCATION:NY
CATEGORIES:Adult Programs
END:VEVENT
BEGIN:VEVENT
DTSTART;TZID=UTC:20240917T160000
DTEND;TZID=UTC:20240917T180000
DTSTAMP:20260421T020243
CREATED:20240806T171527Z
LAST-MODIFIED:20240808T144108Z
UID:3762-1726588800-1726596000@alfredboxofbookslibrary.org
SUMMARY:Paper Quilling
DESCRIPTION:Erica Unterman will lead a workshop on the craft of paper quilling.  Paper quilling is an art form that involves tightly rolling and curling strips of paper to create shapes and designs. This program is best suited for ages 12+.  Click here to register! Or call the library at 607-587-9290 to register today. \n 
URL:https://alfredboxofbookslibrary.org/event/paper-quilling/
LOCATION:Alfred Box of Books Library\, 1 West University Street\, Alfred\, NY\, 14802-1113\, United States
CATEGORIES:Adult Programs,Teen Program
ORGANIZER;CN="Alfred Box of Books Library":MAILTO:alfred@stls.org
END:VEVENT
END:VCALENDAR