BEGIN:VCALENDAR
VERSION:2.0
PRODID:-//Alfred Box of Books Library - ECPv6.15.20//NONSGML v1.0//EN
CALSCALE:GREGORIAN
METHOD:PUBLISH
X-ORIGINAL-URL:https://alfredboxofbookslibrary.org
X-WR-CALDESC:Events for Alfred Box of Books Library
REFRESH-INTERVAL;VALUE=DURATION:PT1H
X-Robots-Tag:noindex
X-PUBLISHED-TTL:PT1H
BEGIN:VTIMEZONE
TZID:UTC
BEGIN:STANDARD
TZOFFSETFROM:+0000
TZOFFSETTO:+0000
TZNAME:UTC
DTSTART:20230101T000000
END:STANDARD
END:VTIMEZONE
BEGIN:VEVENT
DTSTART;TZID=UTC:20241028T110000
DTEND;TZID=UTC:20241028T110000
DTSTAMP:20260421T034546
CREATED:20240819T154238Z
LAST-MODIFIED:20240827T180458Z
UID:3810-1730113200-1730113200@alfredboxofbookslibrary.org
SUMMARY:American Mah Jongg
DESCRIPTION:Join us Mondays for American Mah Jongg.  All skill levels welcome!
URL:https://alfredboxofbookslibrary.org/event/american-mah-jongg-10/
LOCATION:NY
CATEGORIES:Adult Programs
END:VEVENT
BEGIN:VEVENT
DTSTART;TZID=UTC:20241028T140000
DTEND;TZID=UTC:20241028T170000
DTSTAMP:20260421T034546
CREATED:20240808T145652Z
LAST-MODIFIED:20240808T145652Z
UID:3791-1730124000-1730134800@alfredboxofbookslibrary.org
SUMMARY:Visit with Author Deana David
DESCRIPTION:Deana David of Ribbon Candy Hooking will visit the library and share her presentation\, “Frost and Frost: A Textile Artist’s Journey Of Seasonal Inspiration and Technique.”  Click here to register! Or call the library at 607-587-9290. \n\n\n\n\n\n\n\n\nWelcome to a perfectly spiced seasonal blending of two iconic Frosts: Edward Sands Frost and Robert Frost. \nEdward Sands Frost was the resourceful 19th century tin peddler who saw that women were struggling with the designing part of their hooked rugs and decided to start making stencils to help them lay out compositions and make more successful\, impressive rugs that were not just functional but pleasing to look at.\nRobert Frost\, poet laureate of Vermont\, is still one of the best-loved poets of all time. His eternally moving poems like ‘The Road Not Taken’\, ‘After Apple Picking’\, ‘November Guest’\, and ‘Stopping by the Woods on a Snowy Evening’ are just a few of his haunting and evocative works.\nIn class we will use stencils to work out compositions to illustrate a handful of Autumn poems. We will work in the style of Edward Sands Frost to create rug compositions that illustrate Robert Frost. You will learn more about composition\, hear Robert Frost read many of his own poems\, and come away with sketches that will make wonderful designs for your future projects.
URL:https://alfredboxofbookslibrary.org/event/visit-with-author-deana-david/
LOCATION:Alfred Box of Books Library\, 1 West University Street\, Alfred\, NY\, 14802-1113\, United States
CATEGORIES:Adult Programs
ORGANIZER;CN="Alfred Box of Books Library":MAILTO:alfred@stls.org
END:VEVENT
END:VCALENDAR