BEGIN:VCALENDAR
VERSION:2.0
PRODID:-//Alfred Box of Books Library - ECPv6.15.20//NONSGML v1.0//EN
CALSCALE:GREGORIAN
METHOD:PUBLISH
X-ORIGINAL-URL:https://alfredboxofbookslibrary.org
X-WR-CALDESC:Events for Alfred Box of Books Library
REFRESH-INTERVAL;VALUE=DURATION:PT1H
X-Robots-Tag:noindex
X-PUBLISHED-TTL:PT1H
BEGIN:VTIMEZONE
TZID:UTC
BEGIN:STANDARD
TZOFFSETFROM:+0000
TZOFFSETTO:+0000
TZNAME:UTC
DTSTART:20230101T000000
END:STANDARD
END:VTIMEZONE
BEGIN:VEVENT
DTSTART;TZID=UTC:20241113T110000
DTEND;TZID=UTC:20241113T110000
DTSTAMP:20260421T052944
CREATED:20241028T173227Z
LAST-MODIFIED:20241028T173227Z
UID:3926-1731495600-1731495600@alfredboxofbookslibrary.org
SUMMARY:Storytime: Thankfulness
DESCRIPTION:Storytime is for children ages birth-five and their caregivers. Join us for weekly stories\, crafts\, activities\, songs and more!
URL:https://alfredboxofbookslibrary.org/event/storytime-thankfulness/
LOCATION:NY
END:VEVENT
END:VCALENDAR