BEGIN:VCALENDAR
VERSION:2.0
PRODID:-//Alfred Box of Books Library - ECPv6.15.20//NONSGML v1.0//EN
CALSCALE:GREGORIAN
METHOD:PUBLISH
X-ORIGINAL-URL:https://alfredboxofbookslibrary.org
X-WR-CALDESC:Events for Alfred Box of Books Library
REFRESH-INTERVAL;VALUE=DURATION:PT1H
X-Robots-Tag:noindex
X-PUBLISHED-TTL:PT1H
BEGIN:VTIMEZONE
TZID:UTC
BEGIN:STANDARD
TZOFFSETFROM:+0000
TZOFFSETTO:+0000
TZNAME:UTC
DTSTART:20230101T000000
END:STANDARD
END:VTIMEZONE
BEGIN:VEVENT
DTSTART;TZID=UTC:20241114T160000
DTEND;TZID=UTC:20241114T180000
DTSTAMP:20260421T052941
CREATED:20241014T153919Z
LAST-MODIFIED:20241014T153919Z
UID:3904-1731600000-1731607200@alfredboxofbookslibrary.org
SUMMARY:Puzzle Race
DESCRIPTION:Teams of 4 will compete to complete a puzzle fastest. All teams will receive the same 500 piece puzzle and will have 60 minutes to complete. \nAll ages are welcome! Grab your family and friends for some friendly competition. Prizes will be awarded for the top two teams! \nDon’t have 4 team members? That’s ok! Register anyway and we can match up individuals to create a full team. \nRegister by calling the library at 607-587-9290 or emailing alfred@stls.org
URL:https://alfredboxofbookslibrary.org/event/puzzle-race/
LOCATION:Alfred Box of Books Library\, 1 West University Street\, Alfred\, NY\, 14802-1113\, United States
CATEGORIES:General Audience
ORGANIZER;CN="Alfred Box of Books Library":MAILTO:alfred@stls.org
END:VEVENT
END:VCALENDAR