BEGIN:VCALENDAR
VERSION:2.0
PRODID:-//Alfred Box of Books Library - ECPv6.15.20//NONSGML v1.0//EN
CALSCALE:GREGORIAN
METHOD:PUBLISH
X-ORIGINAL-URL:https://alfredboxofbookslibrary.org
X-WR-CALDESC:Events for Alfred Box of Books Library
REFRESH-INTERVAL;VALUE=DURATION:PT1H
X-Robots-Tag:noindex
X-PUBLISHED-TTL:PT1H
BEGIN:VTIMEZONE
TZID:UTC
BEGIN:STANDARD
TZOFFSETFROM:+0000
TZOFFSETTO:+0000
TZNAME:UTC
DTSTART:20230101T000000
END:STANDARD
END:VTIMEZONE
BEGIN:VEVENT
DTSTART;TZID=UTC:20241120T110000
DTEND;TZID=UTC:20241120T110000
DTSTAMP:20260421T052946
CREATED:20241028T173227Z
LAST-MODIFIED:20241028T173227Z
UID:3927-1732100400-1732100400@alfredboxofbookslibrary.org
SUMMARY:No Storytime
DESCRIPTION:There is no storytime this week.  But you’re welcome to stop by the library to play!
URL:https://alfredboxofbookslibrary.org/event/no-storytime-6/
LOCATION:NY
END:VEVENT
END:VCALENDAR