BEGIN:VCALENDAR
VERSION:2.0
PRODID:-//Alfred Box of Books Library - ECPv6.15.20//NONSGML v1.0//EN
CALSCALE:GREGORIAN
METHOD:PUBLISH
X-ORIGINAL-URL:https://alfredboxofbookslibrary.org
X-WR-CALDESC:Events for Alfred Box of Books Library
REFRESH-INTERVAL;VALUE=DURATION:PT1H
X-Robots-Tag:noindex
X-PUBLISHED-TTL:PT1H
BEGIN:VTIMEZONE
TZID:UTC
BEGIN:STANDARD
TZOFFSETFROM:+0000
TZOFFSETTO:+0000
TZNAME:UTC
DTSTART:20240101T000000
END:STANDARD
END:VTIMEZONE
BEGIN:VEVENT
DTSTART;TZID=UTC:20250221T130000
DTEND;TZID=UTC:20250221T143000
DTSTAMP:20260421T103036
CREATED:20241126T161641Z
LAST-MODIFIED:20241126T161641Z
UID:4016-1740142800-1740148200@alfredboxofbookslibrary.org
SUMMARY:Family LEGO Day
DESCRIPTION:School is out\, but the library is open! Join us for an afternoon of creativity.  We’ll provide the LEGOs\, some building challenges\, and refreshments.
URL:https://alfredboxofbookslibrary.org/event/family-lego-day/
LOCATION:Alfred Box of Books Library\, 1 West University Street\, Alfred\, NY\, 14802-1113\, United States
CATEGORIES:Children's Program,General Audience
ORGANIZER;CN="Alfred Box of Books Library":MAILTO:alfred@stls.org
END:VEVENT
END:VCALENDAR