BEGIN:VCALENDAR
VERSION:2.0
PRODID:-//Alfred Box of Books Library - ECPv6.15.20//NONSGML v1.0//EN
CALSCALE:GREGORIAN
METHOD:PUBLISH
X-ORIGINAL-URL:https://alfredboxofbookslibrary.org
X-WR-CALDESC:Events for Alfred Box of Books Library
REFRESH-INTERVAL;VALUE=DURATION:PT1H
X-Robots-Tag:noindex
X-PUBLISHED-TTL:PT1H
BEGIN:VTIMEZONE
TZID:UTC
BEGIN:STANDARD
TZOFFSETFROM:+0000
TZOFFSETTO:+0000
TZNAME:UTC
DTSTART:20240101T000000
END:STANDARD
END:VTIMEZONE
BEGIN:VEVENT
DTSTART;TZID=UTC:20250306T170000
DTEND;TZID=UTC:20250306T180000
DTSTAMP:20260421T115902
CREATED:20250224T150943Z
LAST-MODIFIED:20250224T150943Z
UID:4117-1741280400-1741284000@alfredboxofbookslibrary.org
SUMMARY:Friends of the Market
DESCRIPTION:Are you interested in supporting the farmer’s market? Attend a Friends of the Alfred Farmer’s Market meeting at the library on March 6th.
URL:https://alfredboxofbookslibrary.org/event/friends-of-the-market/
LOCATION:Alfred Box of Books Library\, 1 West University Street\, Alfred\, NY\, 14802-1113\, United States
CATEGORIES:Adult Programs
ORGANIZER;CN="Alfred Farmer's Market":MAILTO:marketmanagerinalfred@gmail.com
END:VEVENT
END:VCALENDAR