BEGIN:VCALENDAR
VERSION:2.0
PRODID:-//Alfred Box of Books Library - ECPv6.15.20//NONSGML v1.0//EN
CALSCALE:GREGORIAN
METHOD:PUBLISH
X-ORIGINAL-URL:https://alfredboxofbookslibrary.org
X-WR-CALDESC:Events for Alfred Box of Books Library
REFRESH-INTERVAL;VALUE=DURATION:PT1H
X-Robots-Tag:noindex
X-PUBLISHED-TTL:PT1H
BEGIN:VTIMEZONE
TZID:UTC
BEGIN:STANDARD
TZOFFSETFROM:+0000
TZOFFSETTO:+0000
TZNAME:UTC
DTSTART:20240101T000000
END:STANDARD
END:VTIMEZONE
BEGIN:VEVENT
DTSTART;TZID=UTC:20250402T110000
DTEND;TZID=UTC:20250402T110000
DTSTAMP:20260421T120437
CREATED:20250317T144943Z
LAST-MODIFIED:20250317T144943Z
UID:4182-1743591600-1743591600@alfredboxofbookslibrary.org
SUMMARY:Storytime- Frogs & Ponds
DESCRIPTION:Storytime is designed for children ages birth to five and their caregivers. This week we will be learning about polliwogs\, frogs\, and their habitats!
URL:https://alfredboxofbookslibrary.org/event/storytime-frogs-ponds/
LOCATION:NY
END:VEVENT
END:VCALENDAR