BEGIN:VCALENDAR
VERSION:2.0
PRODID:-//Alfred Box of Books Library - ECPv6.15.20//NONSGML v1.0//EN
CALSCALE:GREGORIAN
METHOD:PUBLISH
X-WR-CALNAME:Alfred Box of Books Library
X-ORIGINAL-URL:https://alfredboxofbookslibrary.org
X-WR-CALDESC:Events for Alfred Box of Books Library
REFRESH-INTERVAL;VALUE=DURATION:PT1H
X-Robots-Tag:noindex
X-PUBLISHED-TTL:PT1H
BEGIN:VTIMEZONE
TZID:UTC
BEGIN:STANDARD
TZOFFSETFROM:+0000
TZOFFSETTO:+0000
TZNAME:UTC
DTSTART:20240101T000000
END:STANDARD
END:VTIMEZONE
BEGIN:VEVENT
DTSTART;TZID=UTC:20250408T140000
DTEND;TZID=UTC:20250408T140000
DTSTAMP:20260421T151605
CREATED:20250225T155718Z
LAST-MODIFIED:20250225T155804Z
UID:4132-1744120800-1744120800@alfredboxofbookslibrary.org
SUMMARY:Mahjongg
DESCRIPTION:Meet up and play mahjongg Tuesday afternoons. Don’t know how to play? That’s ok! Join in and learn a new game!
URL:https://alfredboxofbookslibrary.org/event/mahjongg-6/
LOCATION:NY
CATEGORIES:Adult Programs
END:VEVENT
BEGIN:VEVENT
DTSTART;TZID=UTC:20250408T160000
DTEND;TZID=UTC:20250408T170000
DTSTAMP:20260421T151605
CREATED:20250403T163450Z
LAST-MODIFIED:20250403T163450Z
UID:4207-1744128000-1744131600@alfredboxofbookslibrary.org
SUMMARY:Board of Trustees Meeting
DESCRIPTION:BOB Meeting – April 2025 \nThe Board of Trustees will meet on Tuesday\, April 8th at 4:00pm. The Trustees meet at the Parish House.
URL:https://alfredboxofbookslibrary.org/event/board-of-trustees-meeting-17/
LOCATION:Parish House\, West University Street\, Alfred\, NY\, 14802\, United States
ORGANIZER;CN="Alfred Box of Books Library":MAILTO:alfred@stls.org
END:VEVENT
BEGIN:VEVENT
DTSTART;TZID=UTC:20250408T170000
DTEND;TZID=UTC:20250408T180000
DTSTAMP:20260421T151605
CREATED:20250317T132657Z
LAST-MODIFIED:20250403T164801Z
UID:4154-1744131600-1744135200@alfredboxofbookslibrary.org
SUMMARY:Visit with Guinea Pigs
DESCRIPTION:Kelly’s Critter Crew from Hornell will be at the library with some furry friends! Learn about guinea pigs and visit with some cuddly critters! \nAll ages welcome!
URL:https://alfredboxofbookslibrary.org/event/visit-with-guinea-pigs/
LOCATION:Alfred Box of Books Library\, 1 West University Street\, Alfred\, NY\, 14802-1113\, United States
CATEGORIES:General Audience
ORGANIZER;CN="Alfred Box of Books Library":MAILTO:alfred@stls.org
END:VEVENT
END:VCALENDAR