BEGIN:VCALENDAR
VERSION:2.0
PRODID:-//Alfred Box of Books Library - ECPv6.15.20//NONSGML v1.0//EN
CALSCALE:GREGORIAN
METHOD:PUBLISH
X-ORIGINAL-URL:https://alfredboxofbookslibrary.org
X-WR-CALDESC:Events for Alfred Box of Books Library
REFRESH-INTERVAL;VALUE=DURATION:PT1H
X-Robots-Tag:noindex
X-PUBLISHED-TTL:PT1H
BEGIN:VTIMEZONE
TZID:UTC
BEGIN:STANDARD
TZOFFSETFROM:+0000
TZOFFSETTO:+0000
TZNAME:UTC
DTSTART:20240101T000000
END:STANDARD
END:VTIMEZONE
BEGIN:VEVENT
DTSTART;TZID=UTC:20250417T170000
DTEND;TZID=UTC:20250417T183000
DTSTAMP:20260421T134552
CREATED:20250317T133349Z
LAST-MODIFIED:20250317T133349Z
UID:4160-1744909200-1744914600@alfredboxofbookslibrary.org
SUMMARY:Community Read Discussion
DESCRIPTION:Join us for a community discussion of the novel Fahrenheit 451 by Ray Bradbury. \nThe discussion will take place at Terra Cotta Coffeehouse. Light refreshments will be available. \nPrior to the discussion\, you can get a copy of the novel or graphic novel by visiting any Alfred library. Digital copies are available on the Libby app with your (Box of Books) library card. \nThis program is a collaboration with the Alfred Box of Books Library\, Herrick and Scholes Libraries of Alfred University\, and Hinkle Library of Alfred State. \nThis program is made possible with funding from the Allegany County Area Foundation.
URL:https://alfredboxofbookslibrary.org/event/community-read-discussion/
LOCATION:Terra Cotta Coffee House\, Alfred
CATEGORIES:Adult Programs
ORGANIZER;CN="Alfred Box of Books Library":MAILTO:alfred@stls.org
END:VEVENT
END:VCALENDAR