BEGIN:VCALENDAR
VERSION:2.0
PRODID:-//Alfred Box of Books Library - ECPv6.15.20//NONSGML v1.0//EN
CALSCALE:GREGORIAN
METHOD:PUBLISH
X-WR-CALNAME:Alfred Box of Books Library
X-ORIGINAL-URL:https://alfredboxofbookslibrary.org
X-WR-CALDESC:Events for Alfred Box of Books Library
REFRESH-INTERVAL;VALUE=DURATION:PT1H
X-Robots-Tag:noindex
X-PUBLISHED-TTL:PT1H
BEGIN:VTIMEZONE
TZID:UTC
BEGIN:STANDARD
TZOFFSETFROM:+0000
TZOFFSETTO:+0000
TZNAME:UTC
DTSTART:20250101T000000
END:STANDARD
END:VTIMEZONE
BEGIN:VEVENT
DTSTART;TZID=UTC:20260421T170000
DTEND;TZID=UTC:20260421T170000
DTSTAMP:20260421T015743
CREATED:20251023T172002Z
LAST-MODIFIED:20251023T172002Z
UID:4638-1776790800-1776790800@alfredboxofbookslibrary.org
SUMMARY:Jane Austen Book Club: Northanger Abbey
DESCRIPTION:To celebrate Jane Austen’s 250th birthday\, we’re holding a monthly Jane Austen book club.  This month we will discuss Northanger Abbey. All meetings will take place via Zoom at 5:00pm. To register\, please email alfred@stls.org. Pre-register to receive the Zoom link by email.
URL:https://alfredboxofbookslibrary.org/event/jane-austen-book-club-northanger-abbey/
LOCATION:NY
END:VEVENT
END:VCALENDAR