BEGIN:VCALENDAR
VERSION:2.0
PRODID:-//Alfred Box of Books Library - ECPv6.15.20//NONSGML v1.0//EN
CALSCALE:GREGORIAN
METHOD:PUBLISH
X-WR-CALNAME:Alfred Box of Books Library
X-ORIGINAL-URL:https://alfredboxofbookslibrary.org
X-WR-CALDESC:Events for Alfred Box of Books Library
REFRESH-INTERVAL;VALUE=DURATION:PT1H
X-Robots-Tag:noindex
X-PUBLISHED-TTL:PT1H
BEGIN:VTIMEZONE
TZID:UTC
BEGIN:STANDARD
TZOFFSETFROM:+0000
TZOFFSETTO:+0000
TZNAME:UTC
DTSTART:20240101T000000
END:STANDARD
END:VTIMEZONE
BEGIN:VEVENT
DTSTART;TZID=UTC:20250304T140000
DTEND;TZID=UTC:20250304T140000
DTSTAMP:20260421T130421
CREATED:20250225T155716Z
LAST-MODIFIED:20250225T155716Z
UID:4127-1741096800-1741096800@alfredboxofbookslibrary.org
SUMMARY:Mahjongg
DESCRIPTION:Meet up and play mahjongg Tuesday afternoons. Don’t know how to play? That’s ok! Join in and learn a new game!
URL:https://alfredboxofbookslibrary.org/event/mahjongg/
LOCATION:NY
CATEGORIES:Adult Programs
END:VEVENT
BEGIN:VEVENT
DTSTART;TZID=UTC:20250306T170000
DTEND;TZID=UTC:20250306T180000
DTSTAMP:20260421T130421
CREATED:20250224T150943Z
LAST-MODIFIED:20250224T150943Z
UID:4117-1741280400-1741284000@alfredboxofbookslibrary.org
SUMMARY:Friends of the Market
DESCRIPTION:Are you interested in supporting the farmer’s market? Attend a Friends of the Alfred Farmer’s Market meeting at the library on March 6th.
URL:https://alfredboxofbookslibrary.org/event/friends-of-the-market/
LOCATION:Alfred Box of Books Library\, 1 West University Street\, Alfred\, NY\, 14802-1113\, United States
CATEGORIES:Adult Programs
ORGANIZER;CN="Alfred Farmer's Market":MAILTO:marketmanagerinalfred@gmail.com
END:VEVENT
BEGIN:VEVENT
DTSTART;TZID=UTC:20250311T140000
DTEND;TZID=UTC:20250311T140000
DTSTAMP:20260421T130421
CREATED:20250225T155717Z
LAST-MODIFIED:20250225T155717Z
UID:4128-1741701600-1741701600@alfredboxofbookslibrary.org
SUMMARY:Mahjongg
DESCRIPTION:Meet up and play mahjongg Tuesday afternoons. Don’t know how to play? That’s ok! Join in and learn a new game!
URL:https://alfredboxofbookslibrary.org/event/mahjongg-2/
LOCATION:NY
CATEGORIES:Adult Programs
END:VEVENT
BEGIN:VEVENT
DTSTART;TZID=UTC:20250312T170000
DTEND;TZID=UTC:20250312T183000
DTSTAMP:20260421T130421
CREATED:20241218T201122Z
LAST-MODIFIED:20241218T201122Z
UID:4052-1741798800-1741804200@alfredboxofbookslibrary.org
SUMMARY:Silent Book Club
DESCRIPTION:What is a silent book club? Bring your own book and read with others.  We will spend the first few minutes of the event sharing what we’re reading.  Then grab a snack and read your book with others.
URL:https://alfredboxofbookslibrary.org/event/silent-book-club/
LOCATION:NY
CATEGORIES:Adult Programs
ORGANIZER;CN="Alfred Box of Books Library":MAILTO:alfred@stls.org
END:VEVENT
BEGIN:VEVENT
DTSTART;TZID=UTC:20250318T140000
DTEND;TZID=UTC:20250318T140000
DTSTAMP:20260421T130421
CREATED:20250225T155717Z
LAST-MODIFIED:20250225T155717Z
UID:4129-1742306400-1742306400@alfredboxofbookslibrary.org
SUMMARY:Mahjongg
DESCRIPTION:Meet up and play mahjongg Tuesday afternoons. Don’t know how to play? That’s ok! Join in and learn a new game!
URL:https://alfredboxofbookslibrary.org/event/mahjongg-3/
LOCATION:NY
CATEGORIES:Adult Programs
END:VEVENT
BEGIN:VEVENT
DTSTART;TZID=UTC:20250320T160000
DTEND;TZID=UTC:20250320T180000
DTSTAMP:20260421T130421
CREATED:20241218T201431Z
LAST-MODIFIED:20241218T201431Z
UID:4056-1742486400-1742493600@alfredboxofbookslibrary.org
SUMMARY:Candle Dipping with Winterberry Homestead
DESCRIPTION:Join us for a workshop with Winterberry Homestead. Learn how to dip your own candles! Make your own candle. \nRegistration is required. Ages 12 and up only. \nCall 607-587-9290 or email alfred@stls.org to register.
URL:https://alfredboxofbookslibrary.org/event/candle-dipping-with-winterberry-homestead/
LOCATION:Alfred Box of Books Library\, 1 West University Street\, Alfred\, NY\, 14802-1113\, United States
CATEGORIES:Adult Programs,Teen Program
ORGANIZER;CN="Alfred Box of Books Library":MAILTO:alfred@stls.org
END:VEVENT
BEGIN:VEVENT
DTSTART;TZID=UTC:20250325T140000
DTEND;TZID=UTC:20250325T140000
DTSTAMP:20260421T130421
CREATED:20250225T155717Z
LAST-MODIFIED:20250225T155717Z
UID:4130-1742911200-1742911200@alfredboxofbookslibrary.org
SUMMARY:Mahjongg
DESCRIPTION:Meet up and play mahjongg Tuesday afternoons. Don’t know how to play? That’s ok! Join in and learn a new game!
URL:https://alfredboxofbookslibrary.org/event/mahjongg-4/
LOCATION:NY
CATEGORIES:Adult Programs
END:VEVENT
END:VCALENDAR