BEGIN:VCALENDAR
VERSION:2.0
PRODID:-//Alfred Box of Books Library - ECPv6.15.20//NONSGML v1.0//EN
CALSCALE:GREGORIAN
METHOD:PUBLISH
X-ORIGINAL-URL:https://alfredboxofbookslibrary.org
X-WR-CALDESC:Events for Alfred Box of Books Library
REFRESH-INTERVAL;VALUE=DURATION:PT1H
X-Robots-Tag:noindex
X-PUBLISHED-TTL:PT1H
BEGIN:VTIMEZONE
TZID:UTC
BEGIN:STANDARD
TZOFFSETFROM:+0000
TZOFFSETTO:+0000
TZNAME:UTC
DTSTART:20240101T000000
END:STANDARD
END:VTIMEZONE
BEGIN:VEVENT
DTSTART;TZID=UTC:20250401T140000
DTEND;TZID=UTC:20250401T140000
DTSTAMP:20260420T230904
CREATED:20250225T155717Z
LAST-MODIFIED:20250225T155717Z
UID:4131-1743516000-1743516000@alfredboxofbookslibrary.org
SUMMARY:Mahjongg
DESCRIPTION:Meet up and play mahjongg Tuesday afternoons. Don’t know how to play? That’s ok! Join in and learn a new game!
URL:https://alfredboxofbookslibrary.org/event/mahjongg-5/
LOCATION:NY
CATEGORIES:Adult Programs
END:VEVENT
BEGIN:VEVENT
DTSTART;TZID=UTC:20250408T140000
DTEND;TZID=UTC:20250408T140000
DTSTAMP:20260420T230904
CREATED:20250225T155718Z
LAST-MODIFIED:20250225T155804Z
UID:4132-1744120800-1744120800@alfredboxofbookslibrary.org
SUMMARY:Mahjongg
DESCRIPTION:Meet up and play mahjongg Tuesday afternoons. Don’t know how to play? That’s ok! Join in and learn a new game!
URL:https://alfredboxofbookslibrary.org/event/mahjongg-6/
LOCATION:NY
CATEGORIES:Adult Programs
END:VEVENT
BEGIN:VEVENT
DTSTART;TZID=UTC:20250409T180000
DTEND;TZID=UTC:20250409T200000
DTSTAMP:20260420T230904
CREATED:20250416T180341Z
LAST-MODIFIED:20250421T162632Z
UID:4228-1744221600-1744228800@alfredboxofbookslibrary.org
SUMMARY:Adult Dungeons and Dragons
DESCRIPTION:Our adult Dungeons and Dragons Group meets this evening. If you are interested in learning more about D&D\, please contact Caleb Fesmire at fesmirec@stls.org.
URL:https://alfredboxofbookslibrary.org/event/adult-dungeons-and-dragons/
LOCATION:Alfred Box of Books Library\, 1 West University Street\, Alfred\, NY\, 14802-1113\, United States
CATEGORIES:Adult Programs
ORGANIZER;CN="Alfred Box of Books Library":MAILTO:alfred@stls.org
END:VEVENT
BEGIN:VEVENT
DTSTART;TZID=UTC:20250410T170000
DTEND;TZID=UTC:20250410T180000
DTSTAMP:20260420T230904
CREATED:20250317T132838Z
LAST-MODIFIED:20250317T132838Z
UID:4156-1744304400-1744308000@alfredboxofbookslibrary.org
SUMMARY:Poetry Reading with Heather Yanda
DESCRIPTION:April is National Poetry Month. Join us for a poetry reading with Alfred University professor and poet\, Heather Yanda. Also\, feel free to share your own poetry with the group! Light refreshments will be provided.
URL:https://alfredboxofbookslibrary.org/event/poetry-reading-with-heather-yanda/
LOCATION:Alfred Box of Books Library\, 1 West University Street\, Alfred\, NY\, 14802-1113\, United States
CATEGORIES:Adult Programs,Teen Program
ORGANIZER;CN="Alfred Box of Books Library":MAILTO:alfred@stls.org
END:VEVENT
BEGIN:VEVENT
DTSTART;TZID=UTC:20250415T140000
DTEND;TZID=UTC:20250415T140000
DTSTAMP:20260420T230904
CREATED:20250225T155718Z
LAST-MODIFIED:20250225T155804Z
UID:4133-1744725600-1744725600@alfredboxofbookslibrary.org
SUMMARY:Mahjongg
DESCRIPTION:Meet up and play mahjongg Tuesday afternoons. Don’t know how to play? That’s ok! Join in and learn a new game!
URL:https://alfredboxofbookslibrary.org/event/mahjongg-7/
LOCATION:NY
CATEGORIES:Adult Programs
END:VEVENT
BEGIN:VEVENT
DTSTART;TZID=UTC:20250416T160000
DTEND;TZID=UTC:20250416T180000
DTSTAMP:20260420T230904
CREATED:20250317T133028Z
LAST-MODIFIED:20250317T133028Z
UID:4158-1744819200-1744826400@alfredboxofbookslibrary.org
SUMMARY:Angora Wool Spinning
DESCRIPTION:Winterberry Homestead will be at the library to lead a workshop on spinning angora wool.  Brush angora rabbits\, and learn to spin the wool.  Registration is required. Register by calling 607-587-9290 or emailing alfred@stls.org.
URL:https://alfredboxofbookslibrary.org/event/angora-wool-spinning/
LOCATION:Alfred Box of Books Library\, 1 West University Street\, Alfred\, NY\, 14802-1113\, United States
CATEGORIES:Adult Programs,Teen Program
ORGANIZER;CN="Alfred Box of Books Library":MAILTO:alfred@stls.org
END:VEVENT
BEGIN:VEVENT
DTSTART;TZID=UTC:20250416T180000
DTEND;TZID=UTC:20250416T200000
DTSTAMP:20260420T230904
CREATED:20250421T162730Z
LAST-MODIFIED:20250421T162730Z
UID:4253-1744826400-1744833600@alfredboxofbookslibrary.org
SUMMARY:Dungeons and Dragons
DESCRIPTION:Our adult Dungeons and Dragons Group meets this evening. If you are interested in learning more about D&D\, please contact Caleb Fesmire at fesmirec@stls.org.
URL:https://alfredboxofbookslibrary.org/event/dungeons-and-dragons/
LOCATION:Alfred Box of Books Library\, 1 West University Street\, Alfred\, NY\, 14802-1113\, United States
CATEGORIES:Adult Programs
ORGANIZER;CN="Alfred Box of Books Library":MAILTO:alfred@stls.org
END:VEVENT
BEGIN:VEVENT
DTSTART;TZID=UTC:20250417T170000
DTEND;TZID=UTC:20250417T183000
DTSTAMP:20260420T230904
CREATED:20250317T133349Z
LAST-MODIFIED:20250317T133349Z
UID:4160-1744909200-1744914600@alfredboxofbookslibrary.org
SUMMARY:Community Read Discussion
DESCRIPTION:Join us for a community discussion of the novel Fahrenheit 451 by Ray Bradbury. \nThe discussion will take place at Terra Cotta Coffeehouse. Light refreshments will be available. \nPrior to the discussion\, you can get a copy of the novel or graphic novel by visiting any Alfred library. Digital copies are available on the Libby app with your (Box of Books) library card. \nThis program is a collaboration with the Alfred Box of Books Library\, Herrick and Scholes Libraries of Alfred University\, and Hinkle Library of Alfred State. \nThis program is made possible with funding from the Allegany County Area Foundation.
URL:https://alfredboxofbookslibrary.org/event/community-read-discussion/
LOCATION:Terra Cotta Coffee House\, Alfred
CATEGORIES:Adult Programs
ORGANIZER;CN="Alfred Box of Books Library":MAILTO:alfred@stls.org
END:VEVENT
BEGIN:VEVENT
DTSTART;TZID=UTC:20250422T140000
DTEND;TZID=UTC:20250422T140000
DTSTAMP:20260420T230904
CREATED:20250225T155718Z
LAST-MODIFIED:20250225T155804Z
UID:4134-1745330400-1745330400@alfredboxofbookslibrary.org
SUMMARY:Mahjongg
DESCRIPTION:Meet up and play mahjongg Tuesday afternoons. Don’t know how to play? That’s ok! Join in and learn a new game!
URL:https://alfredboxofbookslibrary.org/event/mahjongg-8/
LOCATION:NY
CATEGORIES:Adult Programs
END:VEVENT
BEGIN:VEVENT
DTSTART;TZID=UTC:20250423T180000
DTEND;TZID=UTC:20250423T180000
DTSTAMP:20260420T230904
CREATED:20250416T180341Z
LAST-MODIFIED:20250416T180846Z
UID:4229-1745431200-1745431200@alfredboxofbookslibrary.org
SUMMARY:Adult Dungeons and Dragons
DESCRIPTION:Our adult Dungeons and Dragons Group meets this evening.  If you are interested in learning more about D&D\, please contact Caleb Fesmire at fesmirec@stls.org.
URL:https://alfredboxofbookslibrary.org/event/adult-dungeons-and-dragons-2/
LOCATION:NY
CATEGORIES:Adult Programs
END:VEVENT
BEGIN:VEVENT
DTSTART;TZID=UTC:20250429T140000
DTEND;TZID=UTC:20250429T140000
DTSTAMP:20260420T230904
CREATED:20250225T155718Z
LAST-MODIFIED:20250225T155804Z
UID:4135-1745935200-1745935200@alfredboxofbookslibrary.org
SUMMARY:Mahjongg
DESCRIPTION:Meet up and play mahjongg Tuesday afternoons. Don’t know how to play? That’s ok! Join in and learn a new game!
URL:https://alfredboxofbookslibrary.org/event/mahjongg-9/
LOCATION:NY
CATEGORIES:Adult Programs
END:VEVENT
END:VCALENDAR