BEGIN:VCALENDAR
VERSION:2.0
PRODID:-//Alfred Box of Books Library - ECPv6.15.20//NONSGML v1.0//EN
CALSCALE:GREGORIAN
METHOD:PUBLISH
X-WR-CALNAME:Alfred Box of Books Library
X-ORIGINAL-URL:https://alfredboxofbookslibrary.org
X-WR-CALDESC:Events for Alfred Box of Books Library
REFRESH-INTERVAL;VALUE=DURATION:PT1H
X-Robots-Tag:noindex
X-PUBLISHED-TTL:PT1H
BEGIN:VTIMEZONE
TZID:UTC
BEGIN:STANDARD
TZOFFSETFROM:+0000
TZOFFSETTO:+0000
TZNAME:UTC
DTSTART:20240101T000000
END:STANDARD
END:VTIMEZONE
BEGIN:VEVENT
DTSTART;TZID=UTC:20250613T183000
DTEND;TZID=UTC:20250613T193000
DTSTAMP:20260421T043442
CREATED:20250603T182623Z
LAST-MODIFIED:20250603T182623Z
UID:4370-1749839400-1749843000@alfredboxofbookslibrary.org
SUMMARY:Public Hearing: Library Budget Vote
DESCRIPTION:The library is hosting a public hearing ahead of our upcoming budget vote (June 30th.)  Members of the public are welcome to come ask questions about the library’s proposed budgets for fiscal year 2026.  This meeting will cover both the Alfred and Almond library budgets. \nFor additional information please see our Budget Vote Guide. 
URL:https://alfredboxofbookslibrary.org/event/public-hearing-library-budget-vote/
LOCATION:Almond 20th Century Club Library\, Almond\, NY\, 14803\, United States
CATEGORIES:Adult Programs
ORGANIZER;CN="Alfred Box of Books Library":MAILTO:alfred@stls.org
END:VEVENT
END:VCALENDAR