BEGIN:VCALENDAR
VERSION:2.0
PRODID:-//Alfred Box of Books Library - ECPv6.15.20//NONSGML v1.0//EN
CALSCALE:GREGORIAN
METHOD:PUBLISH
X-ORIGINAL-URL:https://alfredboxofbookslibrary.org
X-WR-CALDESC:Events for Alfred Box of Books Library
REFRESH-INTERVAL;VALUE=DURATION:PT1H
X-Robots-Tag:noindex
X-PUBLISHED-TTL:PT1H
BEGIN:VTIMEZONE
TZID:UTC
BEGIN:STANDARD
TZOFFSETFROM:+0000
TZOFFSETTO:+0000
TZNAME:UTC
DTSTART:20250101T000000
END:STANDARD
END:VTIMEZONE
BEGIN:VEVENT
DTSTART;TZID=UTC:20260112T130000
DTEND;TZID=UTC:20260112T140000
DTSTAMP:20260420T025000
CREATED:20251217T172124Z
LAST-MODIFIED:20251217T172124Z
UID:4819-1768222800-1768226400@alfredboxofbookslibrary.org
SUMMARY:Preparing For the Future: Advanced Planning
DESCRIPTION:The Center for Elder Law and Justice will be at the library to present a workshop on advanced planning documents.  Participants will gain an understanding of key legal documents such as Powers of Attorney\, Healthcare Proxies or Living Wills and Last Wills and Testaments. Registrations is required.  Please call 607-587-9290 or email alfred@stls.org.  
URL:https://alfredboxofbookslibrary.org/event/preparing-for-the-future-advanced-planning/
LOCATION:Alfred Box of Books Library\, 1 West University Street\, Alfred\, NY\, 14802-1113\, United States
CATEGORIES:Adult Programs
ORGANIZER;CN="Alfred Box of Books Library":MAILTO:alfred@stls.org
END:VEVENT
END:VCALENDAR