BEGIN:VCALENDAR
VERSION:2.0
PRODID:-//Alfred Box of Books Library - ECPv6.15.20//NONSGML v1.0//EN
CALSCALE:GREGORIAN
METHOD:PUBLISH
X-WR-CALNAME:Alfred Box of Books Library
X-ORIGINAL-URL:https://alfredboxofbookslibrary.org
X-WR-CALDESC:Events for Alfred Box of Books Library
REFRESH-INTERVAL;VALUE=DURATION:PT1H
X-Robots-Tag:noindex
X-PUBLISHED-TTL:PT1H
BEGIN:VTIMEZONE
TZID:UTC
BEGIN:STANDARD
TZOFFSETFROM:+0000
TZOFFSETTO:+0000
TZNAME:UTC
DTSTART:20240101T000000
END:STANDARD
END:VTIMEZONE
BEGIN:VEVENT
DTSTART;VALUE=DATE:20260101
DTEND;VALUE=DATE:20260102
DTSTAMP:20260419T200511
CREATED:20251023T174144Z
LAST-MODIFIED:20251023T174144Z
UID:4659-1767225600-1767311999@alfredboxofbookslibrary.org
SUMMARY:Library Closed
DESCRIPTION:
URL:https://alfredboxofbookslibrary.org/event/library-closed-40/
LOCATION:Alfred Box of Books Library\, 1 West University Street\, Alfred\, NY\, 14802-1113\, United States
CATEGORIES:Adult Programs,Children's Program,General Audience,Teen Program
ORGANIZER;CN="Alfred Box of Books Library":MAILTO:alfred@stls.org
END:VEVENT
BEGIN:VEVENT
DTSTART;VALUE=DATE:20251231
DTEND;VALUE=DATE:20260101
DTSTAMP:20260419T200511
CREATED:20251023T174038Z
LAST-MODIFIED:20251023T174038Z
UID:4657-1767139200-1767225599@alfredboxofbookslibrary.org
SUMMARY:Library Closed
DESCRIPTION:
URL:https://alfredboxofbookslibrary.org/event/library-closed-39/
LOCATION:Alfred Box of Books Library\, 1 West University Street\, Alfred\, NY\, 14802-1113\, United States
CATEGORIES:Adult Programs,Children's Program,General Audience,Teen Program
ORGANIZER;CN="Alfred Box of Books Library":MAILTO:alfred@stls.org
END:VEVENT
BEGIN:VEVENT
DTSTART;VALUE=DATE:20251225
DTEND;VALUE=DATE:20251226
DTSTAMP:20260419T200511
CREATED:20251023T173943Z
LAST-MODIFIED:20251023T173943Z
UID:4655-1766620800-1766707199@alfredboxofbookslibrary.org
SUMMARY:Library Closed
DESCRIPTION:
URL:https://alfredboxofbookslibrary.org/event/library-closed-38/
LOCATION:Alfred Box of Books Library\, 1 West University Street\, Alfred\, NY\, 14802-1113\, United States
CATEGORIES:Adult Programs,Children's Program,General Audience,Teen Program
ORGANIZER;CN="Alfred Box of Books Library":MAILTO:alfred@stls.org
END:VEVENT
BEGIN:VEVENT
DTSTART;VALUE=DATE:20251224
DTEND;VALUE=DATE:20251225
DTSTAMP:20260419T200511
CREATED:20251023T173852Z
LAST-MODIFIED:20251023T173852Z
UID:4653-1766534400-1766620799@alfredboxofbookslibrary.org
SUMMARY:Library Closed
DESCRIPTION:
URL:https://alfredboxofbookslibrary.org/event/library-closed-37/
LOCATION:Alfred Box of Books Library\, 1 West University Street\, Alfred\, NY\, 14802-1113\, United States
CATEGORIES:Adult Programs,Children's Program,General Audience,Teen Program
ORGANIZER;CN="Alfred Box of Books Library":MAILTO:alfred@stls.org
END:VEVENT
BEGIN:VEVENT
DTSTART;TZID=UTC:20251217T180000
DTEND;TZID=UTC:20251217T200000
DTSTAMP:20260419T200511
CREATED:20251119T201622Z
LAST-MODIFIED:20251119T201622Z
UID:4776-1765994400-1766001600@alfredboxofbookslibrary.org
SUMMARY:Adult Dungeons & Dragons
DESCRIPTION:Come play D&D at the Library! Everyone is welcome\, whether you’re an experienced player or completely new to the game! Dice\, character sheets\, and characters are available for anyone who needs them. \nThis event is 18+ only. If you are or know a teenager interested in playing D&D at the library\, please reach out and let us know! \nIf you are interested in learning more about the club\, please contact Caleb Fesmire at fesmirec@stls.org.
URL:https://alfredboxofbookslibrary.org/event/adult-dungeons-dragons-7/
LOCATION:Alfred Box of Books Library\, 1 West University Street\, Alfred\, NY\, 14802-1113\, United States
CATEGORIES:Adult Programs
ORGANIZER;CN="Alfred Box of Books Library":MAILTO:alfred@stls.org
END:VEVENT
BEGIN:VEVENT
DTSTART;VALUE=DATE:20251205
DTEND;VALUE=DATE:20251206
DTSTAMP:20260419T200511
CREATED:20251024T154732Z
LAST-MODIFIED:20251024T154732Z
UID:4663-1764892800-1764979199@alfredboxofbookslibrary.org
SUMMARY:Library Closed
DESCRIPTION:The library is closed today for professional development. We will reopen on Sunday\, December 7 at 12:00pm.
URL:https://alfredboxofbookslibrary.org/event/library-closed-42/
LOCATION:NY
CATEGORIES:Adult Programs,Children's Program,General Audience,Teen Program
ORGANIZER;CN="Alfred Box of Books Library":MAILTO:alfred@stls.org
END:VEVENT
BEGIN:VEVENT
DTSTART;TZID=UTC:20251203T180000
DTEND;TZID=UTC:20251203T200000
DTSTAMP:20260419T200511
CREATED:20251119T201507Z
LAST-MODIFIED:20251119T201507Z
UID:4774-1764784800-1764792000@alfredboxofbookslibrary.org
SUMMARY:Adult Dungeons & Dragons
DESCRIPTION:Come play D&D at the Library! Everyone is welcome\, whether you’re an experienced player or completely new to the game! Dice\, character sheets\, and characters are available for anyone who needs them. \nThis event is 18+ only. If you are or know a teenager interested in playing D&D at the library\, please reach out and let us know! \nIf you are interested in learning more about the club\, please contact Caleb Fesmire at fesmirec@stls.org.
URL:https://alfredboxofbookslibrary.org/event/adult-dungeons-dragons-6/
LOCATION:Alfred Box of Books Library\, 1 West University Street\, Alfred\, NY\, 14802-1113\, United States
CATEGORIES:Adult Programs
ORGANIZER;CN="Alfred Box of Books Library":MAILTO:alfred@stls.org
END:VEVENT
BEGIN:VEVENT
DTSTART;TZID=UTC:20251202T170000
DTEND;TZID=UTC:20251202T180000
DTSTAMP:20260419T200511
CREATED:20251023T164856Z
LAST-MODIFIED:20251023T164856Z
UID:4603-1764694800-1764698400@alfredboxofbookslibrary.org
SUMMARY:True Crime Book Club
DESCRIPTION:True Crime Book Club meets the first Tuesday of every month at the Terra Cotta Coffeehouse. \nIf you’re interested in joining\, email alfred@stls.org. \n 
URL:https://alfredboxofbookslibrary.org/event/true-crime-book-club-30/
LOCATION:NY
CATEGORIES:Adult Programs
END:VEVENT
BEGIN:VEVENT
DTSTART;VALUE=DATE:20251128
DTEND;VALUE=DATE:20251129
DTSTAMP:20260419T200511
CREATED:20251007T142758Z
LAST-MODIFIED:20251007T142758Z
UID:4574-1764288000-1764374399@alfredboxofbookslibrary.org
SUMMARY:Library Closed
DESCRIPTION:The library will be closed for the Thanksgiving Holiday.
URL:https://alfredboxofbookslibrary.org/event/library-closed-36/
LOCATION:Alfred Box of Books Library\, 1 West University Street\, Alfred\, NY\, 14802-1113\, United States
CATEGORIES:Adult Programs,Children's Program,General Audience,Teen Program
ORGANIZER;CN="Alfred Box of Books Library":MAILTO:alfred@stls.org
END:VEVENT
BEGIN:VEVENT
DTSTART;VALUE=DATE:20251127
DTEND;VALUE=DATE:20251128
DTSTAMP:20260419T200511
CREATED:20251007T142712Z
LAST-MODIFIED:20251007T142712Z
UID:4572-1764201600-1764287999@alfredboxofbookslibrary.org
SUMMARY:Library Closed
DESCRIPTION:The library is closed for the Thanksgiving holiday.
URL:https://alfredboxofbookslibrary.org/event/library-closed-35/
LOCATION:Alfred Box of Books Library\, 1 West University Street\, Alfred\, NY\, 14802-1113\, United States
CATEGORIES:Adult Programs,Children's Program,General Audience,Teen Program
ORGANIZER;CN="Alfred Box of Books Library":MAILTO:alfred@stls.org
END:VEVENT
BEGIN:VEVENT
DTSTART;TZID=UTC:20251113T160000
DTEND;TZID=UTC:20251113T170000
DTSTAMP:20260419T200511
CREATED:20251007T142506Z
LAST-MODIFIED:20251007T144044Z
UID:4535-1763049600-1763053200@alfredboxofbookslibrary.org
SUMMARY:Upcycled Book Centerpiece
DESCRIPTION:Repurpose an old book and make a beautiful fall centerpiece just in time for the holidays. \nThis program is for teens and adults only. \nCall or email the library to register at 607-587-9290 or alfred@stls.org.
URL:https://alfredboxofbookslibrary.org/event/upcycled-book-centerpiece/
LOCATION:Alfred Box of Books Library\, 1 West University Street\, Alfred\, NY\, 14802-1113\, United States
CATEGORIES:Adult Programs,Teen Program
ORGANIZER;CN="Alfred Box of Books Library":MAILTO:alfred@stls.org
END:VEVENT
BEGIN:VEVENT
DTSTART;TZID=UTC:20251104T170000
DTEND;TZID=UTC:20251104T180000
DTSTAMP:20260419T200511
CREATED:20251007T145036Z
LAST-MODIFIED:20251007T145036Z
UID:4585-1762275600-1762279200@alfredboxofbookslibrary.org
SUMMARY:True Crime Book Club
DESCRIPTION:True Crime Book Club will meet today at 5:00pm at the Terra Cotta Coffeehouse. \nThis month we’re discussing The Carpool Detectives by Chuck Hogan.
URL:https://alfredboxofbookslibrary.org/event/true-crime-book-club-29/
LOCATION:Terra Cotta Coffee House\, Alfred
CATEGORIES:Adult Programs
ORGANIZER;CN="Alfred Box of Books Library":MAILTO:alfred@stls.org
END:VEVENT
BEGIN:VEVENT
DTSTART;TZID=UTC:20251029T180000
DTEND;TZID=UTC:20251029T200000
DTSTAMP:20260419T200511
CREATED:20250918T192304Z
LAST-MODIFIED:20250918T192304Z
UID:4559-1761760800-1761768000@alfredboxofbookslibrary.org
SUMMARY:Adult Dungeons & Dragons
DESCRIPTION:Our adult D&D Club meets this evening. If you are interested in learning more about the club\, please contact Caleb Fesmire at fesmirec@stls.org.
URL:https://alfredboxofbookslibrary.org/event/adult-dungeons-dragons-5/
LOCATION:Alfred Box of Books Library\, 1 West University Street\, Alfred\, NY\, 14802-1113\, United States
CATEGORIES:Adult Programs
ORGANIZER;CN="Alfred Box of Books Library":MAILTO:alfred@stls.org
END:VEVENT
BEGIN:VEVENT
DTSTART;VALUE=DATE:20251026
DTEND;VALUE=DATE:20251027
DTSTAMP:20260419T200511
CREATED:20251024T154637Z
LAST-MODIFIED:20251024T154637Z
UID:4661-1761436800-1761523199@alfredboxofbookslibrary.org
SUMMARY:Library Closed
DESCRIPTION:The library will be closed Sunday\, October 26.  We will re-open on Monday\, October 27 at 10:00am.
URL:https://alfredboxofbookslibrary.org/event/library-closed-41/
LOCATION:NY
CATEGORIES:Adult Programs,Children's Program,General Audience,Teen Program
ORGANIZER;CN="Alfred Box of Books Library":MAILTO:alfred@stls.org
END:VEVENT
BEGIN:VEVENT
DTSTART;TZID=UTC:20251015T180000
DTEND;TZID=UTC:20251015T200000
DTSTAMP:20260419T200511
CREATED:20250918T191443Z
LAST-MODIFIED:20250918T191443Z
UID:4557-1760551200-1760558400@alfredboxofbookslibrary.org
SUMMARY:Adult Dungeons & Dragons
DESCRIPTION:Our adult D&D Club meets this evening. If you are interested in learning more about the club\, please contact Caleb Fesmire at fesmirec@stls.org.
URL:https://alfredboxofbookslibrary.org/event/adult-dungeons-dragons-4/
LOCATION:Alfred Box of Books Library\, 1 West University Street\, Alfred\, NY\, 14802-1113\, United States
CATEGORIES:Adult Programs
ORGANIZER;CN="Alfred Box of Books Library":MAILTO:alfred@stls.org
END:VEVENT
BEGIN:VEVENT
DTSTART;TZID=UTC:20251007T170000
DTEND;TZID=UTC:20251007T180000
DTSTAMP:20260419T200511
CREATED:20251007T144917Z
LAST-MODIFIED:20251007T144917Z
UID:4583-1759856400-1759860000@alfredboxofbookslibrary.org
SUMMARY:True Crime Book Club
DESCRIPTION:True Crime Book Club meets today at 5:00pm at the Terra Cotta Coffeehouse. \nThis month we’re discussing The Devil At His Elbow by Valerie Bauerlein.
URL:https://alfredboxofbookslibrary.org/event/true-crime-book-club-28/
LOCATION:Terra Cotta Coffee House\, Alfred
CATEGORIES:Adult Programs
ORGANIZER;CN="Alfred Box of Books Library":MAILTO:alfred@stls.org
END:VEVENT
BEGIN:VEVENT
DTSTART;TZID=UTC:20251001T180000
DTEND;TZID=UTC:20251001T200000
DTSTAMP:20260419T200511
CREATED:20250918T191336Z
LAST-MODIFIED:20250918T191336Z
UID:4555-1759341600-1759348800@alfredboxofbookslibrary.org
SUMMARY:Adult Dungeons & Dragons
DESCRIPTION:Our adult D&D Club meets this evening. If you are interested in learning more about the club\, please contact Caleb Fesmire at fesmirec@stls.org.
URL:https://alfredboxofbookslibrary.org/event/adult-dungeons-dragons-3/
LOCATION:Alfred Box of Books Library\, 1 West University Street\, Alfred\, NY\, 14802-1113\, United States
CATEGORIES:Adult Programs
ORGANIZER;CN="Alfred Box of Books Library":MAILTO:alfred@stls.org
END:VEVENT
BEGIN:VEVENT
DTSTART;TZID=UTC:20250919T170000
DTEND;TZID=UTC:20250919T200000
DTSTAMP:20260419T200511
CREATED:20250818T162955Z
LAST-MODIFIED:20250818T163008Z
UID:4512-1758301200-1758312000@alfredboxofbookslibrary.org
SUMMARY:Fiber Art Wall Hanging w/ Kate Elliott
DESCRIPTION:Join us for a workshop with Kate Elliott to make a customized rainbow wall hanging. Class size is limited to 12.  Pizza will be provided. This workshop is best for adults and teens.
URL:https://alfredboxofbookslibrary.org/event/fiber-art-wall-hanging-w-kate-elliott/
LOCATION:Alfred Box of Books Library\, 1 West University Street\, Alfred\, NY\, 14802-1113\, United States
CATEGORIES:Adult Programs,Teen Program
ORGANIZER;CN="Alfred Box of Books Library":MAILTO:alfred@stls.org
END:VEVENT
BEGIN:VEVENT
DTSTART;TZID=UTC:20250917T180000
DTEND;TZID=UTC:20250917T200000
DTSTAMP:20260419T200511
CREATED:20250822T185221Z
LAST-MODIFIED:20250918T191317Z
UID:4537-1758132000-1758139200@alfredboxofbookslibrary.org
SUMMARY:Adult Dungeons & Dragons
DESCRIPTION:Our adult D&D Club meets this evening. If you are interested in learning more about the club\, please contact Caleb Fesmire at fesmirec@stls.org.
URL:https://alfredboxofbookslibrary.org/event/adult-dungeons-dragons-2/
LOCATION:Alfred Box of Books Library\, 1 West University Street\, Alfred\, NY\, 14802-1113\, United States
CATEGORIES:Adult Programs
ORGANIZER;CN="Alfred Box of Books Library":MAILTO:alfred@stls.org
END:VEVENT
BEGIN:VEVENT
DTSTART;TZID=UTC:20250903T180000
DTEND;TZID=UTC:20250903T200000
DTSTAMP:20260419T200511
CREATED:20250801T145611Z
LAST-MODIFIED:20250822T184939Z
UID:4487-1756922400-1756929600@alfredboxofbookslibrary.org
SUMMARY:Adult Dungeons & Dragons
DESCRIPTION:Our adult D&D Club meets this evening. If you are interested in learning more about the club\, please contact Caleb Fesmire at fesmirec@stls.org.
URL:https://alfredboxofbookslibrary.org/event/adult-dungeons-dragons/
LOCATION:Alfred Box of Books Library\, 1 West University Street\, Alfred\, NY\, 14802-1113\, United States
CATEGORIES:Adult Programs
ORGANIZER;CN="Alfred Box of Books Library":MAILTO:alfred@stls.org
END:VEVENT
BEGIN:VEVENT
DTSTART;TZID=UTC:20250820T180000
DTEND;TZID=UTC:20250820T200000
DTSTAMP:20260419T200511
CREATED:20250801T145340Z
LAST-MODIFIED:20250801T145724Z
UID:4485-1755712800-1755720000@alfredboxofbookslibrary.org
SUMMARY:Adult Dungeons & Dragons (Rescheduled)
DESCRIPTION:Our adult D&D Club meets this evening. If you are interested in learning more about the club\, please contact Caleb Fesmire at fesmirec@stls.org.
URL:https://alfredboxofbookslibrary.org/event/adult-dungeons-and-dragons-rescheduled/
LOCATION:Alfred Box of Books Library\, 1 West University Street\, Alfred\, NY\, 14802-1113\, United States
CATEGORIES:Adult Programs
ORGANIZER;CN="Alfred Box of Books Library":MAILTO:alfred@stls.org
END:VEVENT
BEGIN:VEVENT
DTSTART;TZID=UTC:20250814T170000
DTEND;TZID=UTC:20250814T180000
DTSTAMP:20260419T200511
CREATED:20250603T185632Z
LAST-MODIFIED:20250603T185632Z
UID:4377-1755190800-1755194400@alfredboxofbookslibrary.org
SUMMARY:Arts Book Club at the Alfred Ceramic Arts Museum
DESCRIPTION:Join us for a discussion of All the Beauty in the World: The Metropolitan Museum of Art and Me by Patrick Bringley. A limited number of books will be available at the Alfred Ceramic Arts Museum or the library. The discussion will take place at the Museum! \nAbout the Book: \nMillions of people climb the grand marble staircase to visit the Metropolitan Museum of Art every year. But only a select few have unrestricted access to every nook and cranny. They’re the guards who roam unobtrusively in dark blue suits\, keeping a watchful eye on the two million square foot treasure house. Caught up in his glamourous fledgling career at The New Yorker\, Patrick Bringley never thought that he’d be one of them. Then his older brother was diagnosed with fatal cancer and he found himself needing to escape the mundane clamor of daily life. So he quit The New Yorker and sought solace in the most beautiful place he knew. \nTo his surprise and your delight\, this temporary refuge becomes Bringley’s home away from home for a decade. We follow him as he guards delicate treasures from Egypt to Rome\, strolls the labyrinths beneath the galleries\, wears out nine pairs of company shoes\, and marvels at the beautiful works in his care. Bringley enters the museum as a ghost\, silent and almost invisible\, but soon finds his voice and his tribe: the artworks and their creators and the lively subculture of museum guards—a gorgeous mosaic of artists\, musicians\, blue-collar stalwarts\, immigrants\, cutups\, and dreamers. As his bonds with his colleagues and the art grow\, he comes to understand how fortunate he is to be walled off in this little world\, and how much it resembles the best aspects of the larger world to which he gradually\, gratefully returns.
URL:https://alfredboxofbookslibrary.org/event/arts-book-club-at-the-alfred-ceramic-arts-museum/
LOCATION:Alfred Ceramics Museum\, Pine Street\, Alfred\, NY\, 14802\, United States
CATEGORIES:Adult Programs,Teen Program
ORGANIZER;CN="Alfred Box of Books Library":MAILTO:alfred@stls.org
END:VEVENT
BEGIN:VEVENT
DTSTART;TZID=UTC:20250730T180000
DTEND;TZID=UTC:20250730T180000
DTSTAMP:20260419T200511
CREATED:20250416T180342Z
LAST-MODIFIED:20250416T180514Z
UID:4236-1753898400-1753898400@alfredboxofbookslibrary.org
SUMMARY:Adult Dungeons and Dragons
DESCRIPTION:Our adult Dungeons and Dragons Group meets this evening.  If you are interested in learning more about D&D\, please contact Caleb Fesmire at fesmirec@stls.org.
URL:https://alfredboxofbookslibrary.org/event/adult-dungeons-and-dragons-9/
LOCATION:NY
CATEGORIES:Adult Programs
END:VEVENT
BEGIN:VEVENT
DTSTART;TZID=UTC:20250722T130000
DTEND;TZID=UTC:20250722T180000
DTSTAMP:20260419T200511
CREATED:20250521T190212Z
LAST-MODIFIED:20250521T190212Z
UID:4334-1753189200-1753207200@alfredboxofbookslibrary.org
SUMMARY:Spoon Rings with Kim Chebalo
DESCRIPTION:Learn how to make a spoon ring in this workshop.  Space is limited to 15 people.  Participants must sign up for 1 of 3 sessions. \nSession 1: 1:00pm – 2:15pm \nSession 2: 2:30pm – 3:45pm \nSession 3: 4:00pm – 5:15pm. \nSpace is limited to 5 participants in each session. Please let us know which session you would like to sign up for when you register.  This program is for those 12 and older. \nRegister by calling 607-587-9290 or at the circulation desk the next time you visit the library!
URL:https://alfredboxofbookslibrary.org/event/spoon-rings-with-kim-chebalo/
LOCATION:Alfred Box of Books Library\, 1 West University Street\, Alfred\, NY\, 14802-1113\, United States
CATEGORIES:Adult Programs,Teen Program
ORGANIZER;CN="Alfred Box of Books Library":MAILTO:alfred@stls.org
END:VEVENT
BEGIN:VEVENT
DTSTART;TZID=UTC:20250716T180000
DTEND;TZID=UTC:20250716T180000
DTSTAMP:20260419T200511
CREATED:20250416T180342Z
LAST-MODIFIED:20250416T180527Z
UID:4235-1752688800-1752688800@alfredboxofbookslibrary.org
SUMMARY:Adult Dungeons and Dragons
DESCRIPTION:Our adult Dungeons and Dragons Group meets this evening.  If you are interested in learning more about D&D\, please contact Caleb Fesmire at fesmirec@stls.org.
URL:https://alfredboxofbookslibrary.org/event/adult-dungeons-and-dragons-8/
LOCATION:NY
CATEGORIES:Adult Programs
END:VEVENT
BEGIN:VEVENT
DTSTART;TZID=UTC:20250715T130000
DTEND;TZID=UTC:20250715T140000
DTSTAMP:20260419T200511
CREATED:20250714T171541Z
LAST-MODIFIED:20250714T171541Z
UID:4470-1752584400-1752588000@alfredboxofbookslibrary.org
SUMMARY:Color in the Garden
DESCRIPTION:Master Gardener\, Mary Lu Wells will give a short talk on the use of color in the garden.  This event will take place at the library or you can join via zoom.  For the Zoom link\, please email alfred@stls.org.
URL:https://alfredboxofbookslibrary.org/event/color-in-the-garden/
LOCATION:Alfred Box of Books Library\, 1 West University Street\, Alfred\, NY\, 14802-1113\, United States
CATEGORIES:Adult Programs
ORGANIZER;CN="Alfred Box of Books Library":MAILTO:alfred@stls.org
END:VEVENT
BEGIN:VEVENT
DTSTART;TZID=UTC:20250709T170000
DTEND;TZID=UTC:20250709T180000
DTSTAMP:20260419T200511
CREATED:20250603T185307Z
LAST-MODIFIED:20250603T185722Z
UID:4375-1752080400-1752084000@alfredboxofbookslibrary.org
SUMMARY:Art Book Club with the Alfred Ceramic Arts Museum
DESCRIPTION:Join us for a discussion of The Creative Act: A Way of Being by Rick Rubin. A limited number of copies of the book will be available at the Alfred Ceramics Arts Museum and at the library.  The discussion will take place at the Museum!  You can also get a copy of our next book. \nAbout the Book:  \nMany famed music producers are known for a particular sound that has its day. Rick Rubin is known for something else: creating a space where artists of all different genres and traditions can home in on who they really are and what they really offer. He has made a practice of helping people transcend their self-imposed expectations in order to reconnect with a state of innocence from which the surprising becomes inevitable. Over the years\, as he has thought deeply about where creativity comes from and where it doesn’t\, he has learned that being an artist isn’t about your specific output\, it’s about your relationship to the world. Creativity has a place in everyone’s life\, and everyone can make that place larger. In fact\, there are few more important responsibilities. \nThe Creative Act is a beautiful and generous course of study that illuminates the path of the artist as a road we all can follow. It distills the wisdom gleaned from a lifetime’s work into a luminous reading experience that puts the power to create moments—and lifetimes—of exhilaration and transcendence within closer reach for all of us.
URL:https://alfredboxofbookslibrary.org/event/art-book-club-with-the-alfred-ceramic-arts-museum/
LOCATION:Alfred Ceramics Museum\, Pine Street\, Alfred\, NY\, 14802\, United States
CATEGORIES:Adult Programs,Teen Program
ORGANIZER;CN="Alfred Box of Books Library":MAILTO:alfred@stls.org
END:VEVENT
BEGIN:VEVENT
DTSTART;TZID=UTC:20250707T160000
DTEND;TZID=UTC:20250707T180000
DTSTAMP:20260419T200511
CREATED:20250521T184927Z
LAST-MODIFIED:20250630T130019Z
UID:4323-1751904000-1751911200@alfredboxofbookslibrary.org
SUMMARY:Summer Reading Kickoff
DESCRIPTION:Sign up for summer reading and enjoy family fun! We’ll have live music provided by Garegin Grigoryan\, build your own reading buddy\, and more! \nSummer reading will run from July 7 until August 15.  Track your reading and win prizes! \n 
URL:https://alfredboxofbookslibrary.org/event/summer-reading-kickoff/
LOCATION:Alfred Box of Books Library\, 1 West University Street\, Alfred\, NY\, 14802-1113\, United States
CATEGORIES:Adult Programs,Children's Program,General Audience,Teen Program
ORGANIZER;CN="Alfred Box of Books Library":MAILTO:alfred@stls.org
END:VEVENT
BEGIN:VEVENT
DTSTART;TZID=UTC:20250702T180000
DTEND;TZID=UTC:20250702T180000
DTSTAMP:20260419T200511
CREATED:20250416T180342Z
LAST-MODIFIED:20250416T180538Z
UID:4234-1751479200-1751479200@alfredboxofbookslibrary.org
SUMMARY:Adult Dungeons and Dragons
DESCRIPTION:Our adult Dungeons and Dragons Group meets this evening.  If you are interested in learning more about D&D\, please contact Caleb Fesmire at fesmirec@stls.org.
URL:https://alfredboxofbookslibrary.org/event/adult-dungeons-and-dragons-7/
LOCATION:NY
CATEGORIES:Adult Programs
END:VEVENT
BEGIN:VEVENT
DTSTART;TZID=UTC:20250630T100000
DTEND;TZID=UTC:20250630T190000
DTSTAMP:20260419T200511
CREATED:20250603T182943Z
LAST-MODIFIED:20250603T182943Z
UID:4372-1751277600-1751310000@alfredboxofbookslibrary.org
SUMMARY:Library Budget Vote
DESCRIPTION:Voters of the Alfred-Almond Central School District can vote for the Alfred Box of Books and Almond 20th Century Club libraries today!  Information can be found on out Budget Vote Guide \nVoting will take place at the Alfred Almond Central School auditorium from 10:00am-7:00pm. \n 
URL:https://alfredboxofbookslibrary.org/event/library-budget-vote/
LOCATION:Alfred Almond Central School\, 6795 NY 21\, Almond\, NY\, 14803\, United States
CATEGORIES:Adult Programs
ORGANIZER;CN="Alfred Box of Books Library":MAILTO:alfred@stls.org
END:VEVENT
END:VCALENDAR